BEGIN:VCALENDAR
VERSION:2.0
PRODID:-//PartnershipMiami - ECPv6.15.20//NONSGML v1.0//EN
CALSCALE:GREGORIAN
METHOD:PUBLISH
X-WR-CALNAME:PartnershipMiami
X-ORIGINAL-URL:https://partnershipmiami.org
X-WR-CALDESC:Events for PartnershipMiami
REFRESH-INTERVAL;VALUE=DURATION:PT1H
X-Robots-Tag:noindex
X-PUBLISHED-TTL:PT1H
BEGIN:VTIMEZONE
TZID:America/New_York
BEGIN:DAYLIGHT
TZOFFSETFROM:-0500
TZOFFSETTO:-0400
TZNAME:EDT
DTSTART:20250309T070000
END:DAYLIGHT
BEGIN:STANDARD
TZOFFSETFROM:-0400
TZOFFSETTO:-0500
TZNAME:EST
DTSTART:20251102T060000
END:STANDARD
BEGIN:DAYLIGHT
TZOFFSETFROM:-0500
TZOFFSETTO:-0400
TZNAME:EDT
DTSTART:20260308T070000
END:DAYLIGHT
BEGIN:STANDARD
TZOFFSETFROM:-0400
TZOFFSETTO:-0500
TZNAME:EST
DTSTART:20261101T060000
END:STANDARD
BEGIN:DAYLIGHT
TZOFFSETFROM:-0500
TZOFFSETTO:-0400
TZNAME:EDT
DTSTART:20270314T070000
END:DAYLIGHT
BEGIN:STANDARD
TZOFFSETFROM:-0400
TZOFFSETTO:-0500
TZNAME:EST
DTSTART:20271107T060000
END:STANDARD
END:VTIMEZONE
BEGIN:VEVENT
DTSTART;TZID=America/New_York:20260521T100000
DTEND;TZID=America/New_York:20260521T170000
DTSTAMP:20260423T121007
CREATED:20260116T200348Z
LAST-MODIFIED:20260116T200348Z
UID:10000187-1779357600-1779382800@partnershipmiami.org
SUMMARY:Medical Case Management Basic Training
DESCRIPTION:Medical Case Management Basic Training is an introduction to the Ryan White Program including the Service Delivery Guidelines and Medical Case Management Standards of Care are reviewed during the Basic Trainings. Medical Case Managers and Peer Educators entering the Ryan White Program will receive an overview of the basic/core training elements for medical case management\, the basics of HIV\, community-wide service system and community resources. \nContact Sandra Sergi for meeting log in via Teams.
URL:https://partnershipmiami.org/calendar/medical-case-management-basic-training-2/
LOCATION:Teams
CATEGORIES:Medical Case Management
ATTACH;FMTTYPE=image/jpeg:https://partnershipmiami.org/wp-content/uploads/2025/12/istockphoto-1278834619-612x612mcm.jpg
ORGANIZER;CN="Sandra Sergi":MAILTO:ssergi@behavioralscience.com
END:VEVENT
BEGIN:VEVENT
DTSTART;TZID=America/New_York:20260827T100000
DTEND;TZID=America/New_York:20260827T170000
DTSTAMP:20260423T121007
CREATED:20260116T200710Z
LAST-MODIFIED:20260116T200710Z
UID:10000188-1787824800-1787850000@partnershipmiami.org
SUMMARY:Medical Case Management Basic Training
DESCRIPTION:Medical Case Management Basic Training is an introduction to the Ryan White Program including the Service Delivery Guidelines and Medical Case Management Standards of Care are reviewed during the Basic Trainings. Medical Case Managers and Peer Educators entering the Ryan White Program will receive an overview of the basic/core training elements for medical case management\, the basics of HIV\, community-wide service system and community resources. \nContact Sandra Sergi for meeting log in via Teams.
URL:https://partnershipmiami.org/calendar/medical-case-management-basic-training-3/
LOCATION:Teams
CATEGORIES:Medical Case Management
ATTACH;FMTTYPE=image/jpeg:https://partnershipmiami.org/wp-content/uploads/2025/12/istockphoto-1278834619-612x612mcm.jpg
ORGANIZER;CN="Sandra Sergi":MAILTO:ssergi@behavioralscience.com
END:VEVENT
BEGIN:VEVENT
DTSTART;TZID=America/New_York:20261119T100000
DTEND;TZID=America/New_York:20261119T170000
DTSTAMP:20260423T121007
CREATED:20260116T200750Z
LAST-MODIFIED:20260116T200750Z
UID:10000189-1795082400-1795107600@partnershipmiami.org
SUMMARY:Medical Case Management Basic Training
DESCRIPTION:Medical Case Management Basic Training is an introduction to the Ryan White Program including the Service Delivery Guidelines and Medical Case Management Standards of Care are reviewed during the Basic Trainings. Medical Case Managers and Peer Educators entering the Ryan White Program will receive an overview of the basic/core training elements for medical case management\, the basics of HIV\, community-wide service system and community resources. \nContact Sandra Sergi for meeting log in via Teams.
URL:https://partnershipmiami.org/calendar/medical-case-management-basic-training-4/
LOCATION:Teams
CATEGORIES:Medical Case Management
ATTACH;FMTTYPE=image/jpeg:https://partnershipmiami.org/wp-content/uploads/2025/12/istockphoto-1278834619-612x612mcm.jpg
ORGANIZER;CN="Sandra Sergi":MAILTO:ssergi@behavioralscience.com
END:VEVENT
END:VCALENDAR