BEGIN:VCALENDAR
VERSION:2.0
PRODID:-//PartnershipMiami - ECPv6.15.20//NONSGML v1.0//EN
CALSCALE:GREGORIAN
METHOD:PUBLISH
X-ORIGINAL-URL:https://partnershipmiami.org
X-WR-CALDESC:Events for PartnershipMiami
REFRESH-INTERVAL;VALUE=DURATION:PT1H
X-Robots-Tag:noindex
X-PUBLISHED-TTL:PT1H
BEGIN:VTIMEZONE
TZID:America/New_York
BEGIN:DAYLIGHT
TZOFFSETFROM:-0500
TZOFFSETTO:-0400
TZNAME:EDT
DTSTART:20250309T070000
END:DAYLIGHT
BEGIN:STANDARD
TZOFFSETFROM:-0400
TZOFFSETTO:-0500
TZNAME:EST
DTSTART:20251102T060000
END:STANDARD
BEGIN:DAYLIGHT
TZOFFSETFROM:-0500
TZOFFSETTO:-0400
TZNAME:EDT
DTSTART:20260308T070000
END:DAYLIGHT
BEGIN:STANDARD
TZOFFSETFROM:-0400
TZOFFSETTO:-0500
TZNAME:EST
DTSTART:20261101T060000
END:STANDARD
BEGIN:DAYLIGHT
TZOFFSETFROM:-0500
TZOFFSETTO:-0400
TZNAME:EDT
DTSTART:20270314T070000
END:DAYLIGHT
BEGIN:STANDARD
TZOFFSETFROM:-0400
TZOFFSETTO:-0500
TZNAME:EST
DTSTART:20271107T060000
END:STANDARD
END:VTIMEZONE
BEGIN:VEVENT
DTSTART;TZID=America/New_York:20260401T130000
DTEND;TZID=America/New_York:20260401T160000
DTSTAMP:20260423T133349
CREATED:20260128T164803Z
LAST-MODIFIED:20260303T163953Z
UID:10000195-1775048400-1775059200@partnershipmiami.org
SUMMARY:New Member Orientation and Training
DESCRIPTION:Required Training for New Partnership and Committee Members\nNew members are required to complete the New Member Orientation and Training within three months of appointment.  If your application is pending or if you just want to learn more about the Partnership\, you are welcome to join us! \nWe hold New Member Orientation and Training quarterly via Microsoft Teams. \nRegistration Required: April Registration Link
URL:https://partnershipmiami.org/calendar/new-member-orientation-and-training-5/
LOCATION:Teams
CATEGORIES:Planning Council Member Enrichment Training
ATTACH;FMTTYPE=image/png:https://partnershipmiami.org/wp-content/uploads/2025/12/68a37f9e35d8b181f61c27ed_Screenshot-2025-08-18-at-2.31.35-PM.png
ORGANIZER;CN="Marlen Meizoso":MAILTO:marlen@behavioralscience.com
END:VEVENT
BEGIN:VEVENT
DTSTART;TZID=America/New_York:20260225T100000
DTEND;TZID=America/New_York:20260225T170000
DTSTAMP:20260423T133349
CREATED:20251211T143736Z
LAST-MODIFIED:20251211T144027Z
UID:10000180-1772013600-1772038800@partnershipmiami.org
SUMMARY:Medical Case Management Basic Training
DESCRIPTION:Medical Case Management Basic Training is an introduction to the Ryan White Program including the Service Delivery Guidelines and Medical Case Management Standards of Care are reviewed during the Basic Trainings. Medical Case Managers and Peer Educators entering the Ryan White Program will receive an overview of the basic/core training elements for medical case management\, the basics of HIV\, community-wide service system and community resources. \nContact Sandra Sergi for meeting log in via Teams.
URL:https://partnershipmiami.org/calendar/medical-case-management-basic-training/
LOCATION:Teams
CATEGORIES:Medical Case Management
ATTACH;FMTTYPE=image/jpeg:https://partnershipmiami.org/wp-content/uploads/2025/12/istockphoto-1278834619-612x612mcm.jpg
ORGANIZER;CN="Sandra Sergi":MAILTO:ssergi@behavioralscience.com
END:VEVENT
END:VCALENDAR