BEGIN:VCALENDAR
VERSION:2.0
PRODID:-//PartnershipMiami - ECPv6.15.20//NONSGML v1.0//EN
CALSCALE:GREGORIAN
METHOD:PUBLISH
X-ORIGINAL-URL:https://partnershipmiami.org
X-WR-CALDESC:Events for PartnershipMiami
REFRESH-INTERVAL;VALUE=DURATION:PT1H
X-Robots-Tag:noindex
X-PUBLISHED-TTL:PT1H
BEGIN:VTIMEZONE
TZID:America/New_York
BEGIN:DAYLIGHT
TZOFFSETFROM:-0500
TZOFFSETTO:-0400
TZNAME:EDT
DTSTART:20250309T070000
END:DAYLIGHT
BEGIN:STANDARD
TZOFFSETFROM:-0400
TZOFFSETTO:-0500
TZNAME:EST
DTSTART:20251102T060000
END:STANDARD
BEGIN:DAYLIGHT
TZOFFSETFROM:-0500
TZOFFSETTO:-0400
TZNAME:EDT
DTSTART:20260308T070000
END:DAYLIGHT
BEGIN:STANDARD
TZOFFSETFROM:-0400
TZOFFSETTO:-0500
TZNAME:EST
DTSTART:20261101T060000
END:STANDARD
BEGIN:DAYLIGHT
TZOFFSETFROM:-0500
TZOFFSETTO:-0400
TZNAME:EDT
DTSTART:20270314T070000
END:DAYLIGHT
BEGIN:STANDARD
TZOFFSETFROM:-0400
TZOFFSETTO:-0500
TZNAME:EST
DTSTART:20271107T060000
END:STANDARD
END:VTIMEZONE
BEGIN:VEVENT
DTSTART;TZID=America/New_York:20260519T100000
DTEND;TZID=America/New_York:20260519T130000
DTSTAMP:20260423T094948
CREATED:20251201T190059Z
LAST-MODIFIED:20260107T195611Z
UID:10000057-1779184800-1779195600@partnershipmiami.org
SUMMARY:Joint Integrated Plan Review Team
DESCRIPTION:NOTICE IS GIVEN that a Sunshine Meeting of the Miami-Dade HIV/AIDS Partnership’s Joint Integrated Plan Review Team is scheduled IN PERSON for the date and time indicated to conduct regular committee business. Please refer to the website link for details. \nThis is the required monthly meeting for members of the Strategic Planning Committee and the Prevention Committee. \nAll RSVPs are requested at least 48 hours in advance of the meeting. \n\nTo request meeting materials in accessible format\, a sign language interpreter\, CART (Communication Access Real-time Translation) services\, and/or any other accommodation to participate in this or any other Miami-Dade HIV/AIDS Partnership meeting\, please contact Christina Bontempo at (305) 445-1076 or send an email to mdcpartnership@behavioralscience.com at least five (5) calendar days in advance to initiate your request. TTY users may also call 711 (Florida Relay Services). Miami-Dade County provides equal access and equal opportunity in its programs\, services\, employment\, and activities and does not discriminate on the basis of disability. \nIf you are unable to attend this meeting but would like to leave a public comment on any item on the meeting agenda\, please call 305-445-1076 and leave a message to be read into the record at this meeting. Please include your name and local address when you leave your comment.
URL:https://partnershipmiami.org/calendar/strategic-planning-committee-6/
LOCATION:Florida Department of Health-Health District Center\, 1350 NW 14th Street\, Conference Room 401B\, Miami\, FL\, 33125
CATEGORIES:Integrated Planning,Miami-Dade HIV/AIDS Partnership
ATTACH;FMTTYPE=image/jpeg:https://partnershipmiami.org/wp-content/uploads/2025/12/ending-hiv-goals.jpg
ORGANIZER;CN="Christina Bontempo":MAILTO:cbontempo@behavioralscience.com
END:VEVENT
BEGIN:VEVENT
DTSTART;TZID=America/New_York:20260601T100000
DTEND;TZID=America/New_York:20260601T120000
DTSTAMP:20260423T094948
CREATED:20260324T143644Z
LAST-MODIFIED:20260324T150236Z
UID:10000043-1780308000-1780315200@partnershipmiami.org
SUMMARY:Miami-Dade HIV/AIDS Partnership
DESCRIPTION:NOTICE IS GIVEN that a Sunshine Meeting of the Miami-Dade HIV/AIDS Partnership is scheduled IN PERSON for the date and time indicated to review committee reports and action items\, review funding reports\, and address other such business as may come before the board. Please refer to the website link for details. \nThis is the required monthly meeting for members of the Miami-Dade HIV/AIDS Partnership. \nAll RSVPs are requested at least 48 hours in advance of the meeting. \n\nTo request meeting materials in accessible format\, a sign language interpreter\, CART (Communication Access Real-time Translation) services\, and/or any other accommodation to participate in this or any other Miami-Dade HIV/AIDS Partnership meeting\, please contact Christina Bontempo at (305) 445-1076 or send an email to mdcpartnership@behavioralscience.com at least five (5) calendar days in advance to initiate your request. TTY users may also call 711 (Florida Relay Services). Miami-Dade County provides equal access and equal opportunity in its programs\, services\, employment\, and activities and does not discriminate on the basis of disability. \nIf you are unable to attend this meeting but would like to leave a public comment on any item on the meeting agenda\, please call 305-445-1076 and leave a message to be read into the record at this meeting. Please include your name and local address when you leave your comment.
URL:https://partnershipmiami.org/calendar/miami-dade-hiv-aids-partnership-9/2026-06-01/
LOCATION:Florida Department of Health-Health District Center\, 1350 NW 14th Street\, Conference Room 401B\, Miami\, FL\, 33125
CATEGORIES:Miami-Dade HIV/AIDS Partnership
ATTACH;FMTTYPE=image/jpeg:https://partnershipmiami.org/wp-content/uploads/2025/12/good-meeting.jpeg
ORGANIZER;CN="Christina Bontempo":MAILTO:cbontempo@behavioralscience.com
END:VEVENT
BEGIN:VEVENT
DTSTART;TZID=America/New_York:20260625T100000
DTEND;TZID=America/New_York:20260625T120000
DTSTAMP:20260423T094948
CREATED:20251210T182745Z
LAST-MODIFIED:20260107T195752Z
UID:10000133-1782381600-1782388800@partnershipmiami.org
SUMMARY:Prevention Committee
DESCRIPTION:NOTICE IS GIVEN that a Sunshine Meeting of the Miami-Dade HIV/AIDS Partnership’s Prevention Committee is scheduled IN PERSON for the date and time indicated to conduct regular committee business. Please refer to the website link for details. \nThis is the required monthly meeting for members of the Prevention Committee. \nAll RSVPs are requested at least 48 hours in advance of the meeting. \n\nTo request meeting materials in accessible format\, a sign language interpreter\, CART (Communication Access Real-time Translation) services\, and/or any other accommodation to participate in this or any other Miami-Dade HIV/AIDS Partnership meeting\, please contact Christina Bontempo at (305) 445-1076 or send an email to mdcpartnership@behavioralscience.com at least five (5) calendar days in advance to initiate your request. TTY users may also call 711 (Florida Relay Services). Miami-Dade County provides equal access and equal opportunity in its programs\, services\, employment\, and activities and does not discriminate on the basis of disability. \nIf you are unable to attend this meeting but would like to leave a public comment on any item on the meeting agenda\, please call 305-445-1076 and leave a message to be read into the record at this meeting. Please include your name and local address when you leave your comment.
URL:https://partnershipmiami.org/calendar/prevention-committee-3/
LOCATION:Florida Department of Health-Health District Center\, 1350 NW 14th Street\, Conference Room 401B\, Miami\, FL\, 33125
CATEGORIES:Miami-Dade HIV/AIDS Partnership
ATTACH;FMTTYPE=image/jpeg:https://partnershipmiami.org/wp-content/uploads/2025/12/istockphoto-860116564-612x612-pvc.jpg
ORGANIZER;CN="Christina Bontempo":MAILTO:cbontempo@behavioralscience.com
END:VEVENT
BEGIN:VEVENT
DTSTART;TZID=America/New_York:20260706T100000
DTEND;TZID=America/New_York:20260706T120000
DTSTAMP:20260423T094948
CREATED:20260324T143644Z
LAST-MODIFIED:20260324T150236Z
UID:10000044-1783332000-1783339200@partnershipmiami.org
SUMMARY:Miami-Dade HIV/AIDS Partnership
DESCRIPTION:NOTICE IS GIVEN that a Sunshine Meeting of the Miami-Dade HIV/AIDS Partnership is scheduled IN PERSON for the date and time indicated to review committee reports and action items\, review funding reports\, and address other such business as may come before the board. Please refer to the website link for details. \nThis is the required monthly meeting for members of the Miami-Dade HIV/AIDS Partnership. \nAll RSVPs are requested at least 48 hours in advance of the meeting. \n\nTo request meeting materials in accessible format\, a sign language interpreter\, CART (Communication Access Real-time Translation) services\, and/or any other accommodation to participate in this or any other Miami-Dade HIV/AIDS Partnership meeting\, please contact Christina Bontempo at (305) 445-1076 or send an email to mdcpartnership@behavioralscience.com at least five (5) calendar days in advance to initiate your request. TTY users may also call 711 (Florida Relay Services). Miami-Dade County provides equal access and equal opportunity in its programs\, services\, employment\, and activities and does not discriminate on the basis of disability. \nIf you are unable to attend this meeting but would like to leave a public comment on any item on the meeting agenda\, please call 305-445-1076 and leave a message to be read into the record at this meeting. Please include your name and local address when you leave your comment.
URL:https://partnershipmiami.org/calendar/miami-dade-hiv-aids-partnership-9/2026-07-06/
LOCATION:Florida Department of Health-Health District Center\, 1350 NW 14th Street\, Conference Room 401B\, Miami\, FL\, 33125
CATEGORIES:Miami-Dade HIV/AIDS Partnership
ATTACH;FMTTYPE=image/jpeg:https://partnershipmiami.org/wp-content/uploads/2025/12/good-meeting.jpeg
ORGANIZER;CN="Christina Bontempo":MAILTO:cbontempo@behavioralscience.com
END:VEVENT
BEGIN:VEVENT
DTSTART;TZID=America/New_York:20260723T100000
DTEND;TZID=America/New_York:20260723T120000
DTSTAMP:20260423T094948
CREATED:20251210T182817Z
LAST-MODIFIED:20260107T195740Z
UID:10000134-1784800800-1784808000@partnershipmiami.org
SUMMARY:Prevention Committee
DESCRIPTION:NOTICE IS GIVEN that a Sunshine Meeting of the Miami-Dade HIV/AIDS Partnership’s Prevention Committee is scheduled IN PERSON for the date and time indicated to conduct regular committee business. Please refer to the website link for details. \nThis is the required monthly meeting for members of the Prevention Committee. \nAll RSVPs are requested at least 48 hours in advance of the meeting. \n\nTo request meeting materials in accessible format\, a sign language interpreter\, CART (Communication Access Real-time Translation) services\, and/or any other accommodation to participate in this or any other Miami-Dade HIV/AIDS Partnership meeting\, please contact Christina Bontempo at (305) 445-1076 or send an email to mdcpartnership@behavioralscience.com at least five (5) calendar days in advance to initiate your request. TTY users may also call 711 (Florida Relay Services). Miami-Dade County provides equal access and equal opportunity in its programs\, services\, employment\, and activities and does not discriminate on the basis of disability. \nIf you are unable to attend this meeting but would like to leave a public comment on any item on the meeting agenda\, please call 305-445-1076 and leave a message to be read into the record at this meeting. Please include your name and local address when you leave your comment.
URL:https://partnershipmiami.org/calendar/prevention-committee-4/
LOCATION:Florida Department of Health-Health District Center\, 1350 NW 14th Street\, Conference Room 401B\, Miami\, FL\, 33125
CATEGORIES:Miami-Dade HIV/AIDS Partnership
ATTACH;FMTTYPE=image/jpeg:https://partnershipmiami.org/wp-content/uploads/2025/12/istockphoto-860116564-612x612-pvc.jpg
ORGANIZER;CN="Christina Bontempo":MAILTO:cbontempo@behavioralscience.com
END:VEVENT
BEGIN:VEVENT
DTSTART;TZID=America/New_York:20260803T100000
DTEND;TZID=America/New_York:20260803T120000
DTSTAMP:20260423T094948
CREATED:20260324T143644Z
LAST-MODIFIED:20260324T150236Z
UID:10000045-1785751200-1785758400@partnershipmiami.org
SUMMARY:Miami-Dade HIV/AIDS Partnership
DESCRIPTION:NOTICE IS GIVEN that a Sunshine Meeting of the Miami-Dade HIV/AIDS Partnership is scheduled IN PERSON for the date and time indicated to review committee reports and action items\, review funding reports\, and address other such business as may come before the board. Please refer to the website link for details. \nThis is the required monthly meeting for members of the Miami-Dade HIV/AIDS Partnership. \nAll RSVPs are requested at least 48 hours in advance of the meeting. \n\nTo request meeting materials in accessible format\, a sign language interpreter\, CART (Communication Access Real-time Translation) services\, and/or any other accommodation to participate in this or any other Miami-Dade HIV/AIDS Partnership meeting\, please contact Christina Bontempo at (305) 445-1076 or send an email to mdcpartnership@behavioralscience.com at least five (5) calendar days in advance to initiate your request. TTY users may also call 711 (Florida Relay Services). Miami-Dade County provides equal access and equal opportunity in its programs\, services\, employment\, and activities and does not discriminate on the basis of disability. \nIf you are unable to attend this meeting but would like to leave a public comment on any item on the meeting agenda\, please call 305-445-1076 and leave a message to be read into the record at this meeting. Please include your name and local address when you leave your comment.
URL:https://partnershipmiami.org/calendar/miami-dade-hiv-aids-partnership-9/2026-08-03/
LOCATION:Florida Department of Health-Health District Center\, 1350 NW 14th Street\, Conference Room 401B\, Miami\, FL\, 33125
CATEGORIES:Miami-Dade HIV/AIDS Partnership
ATTACH;FMTTYPE=image/jpeg:https://partnershipmiami.org/wp-content/uploads/2025/12/good-meeting.jpeg
ORGANIZER;CN="Christina Bontempo":MAILTO:cbontempo@behavioralscience.com
END:VEVENT
BEGIN:VEVENT
DTSTART;TZID=America/New_York:20260818T100000
DTEND;TZID=America/New_York:20260818T130000
DTSTAMP:20260423T094948
CREATED:20251201T182122Z
LAST-MODIFIED:20251209T213753Z
UID:10000060-1787047200-1787058000@partnershipmiami.org
SUMMARY:Joint Integrated Plan Review Team
DESCRIPTION:NOTICE IS GIVEN that a Sunshine Meeting of the Miami-Dade HIV/AIDS Partnership’s Joint Integrated Plan Review Team is scheduled IN PERSON for the date and time indicated to conduct regular committee business. Please refer to the website link for details. \nThis is the required monthly meeting for members of the Strategic Planning Committee and the Prevention Committee. \nAll RSVPs are requested at least 48 hours in advance of the meeting. \n\nTo request meeting materials in accessible format\, a sign language interpreter\, CART (Communication Access Real-time Translation) services\, and/or any other accommodation to participate in this or any other Miami-Dade HIV/AIDS Partnership meeting\, please contact Christina Bontempo at (305) 445-1076 or send an email to mdcpartnership@behavioralscience.com at least five (5) calendar days in advance to initiate your request. TTY users may also call 711 (Florida Relay Services). Miami-Dade County provides equal access and equal opportunity in its programs\, services\, employment\, and activities and does not discriminate on the basis of disability. \nIf you are unable to attend this meeting but would like to leave a public comment on any item on the meeting agenda\, please call 305-445-1076 and leave a message to be read into the record at this meeting. Please include your name and local address when you leave your comment.
URL:https://partnershipmiami.org/calendar/strategic-planning-committee-3/
LOCATION:Florida Department of Health-Health District Center\, 1350 NW 14th Street\, Conference Room 401B\, Miami\, FL\, 33125
CATEGORIES:Integrated Planning,Miami-Dade HIV/AIDS Partnership
ATTACH;FMTTYPE=image/jpeg:https://partnershipmiami.org/wp-content/uploads/2025/12/ending-hiv-goals.jpg
ORGANIZER;CN="Christina Bontempo":MAILTO:cbontempo@behavioralscience.com
END:VEVENT
BEGIN:VEVENT
DTSTART;TZID=America/New_York:20260908T100000
DTEND;TZID=America/New_York:20260908T120000
DTSTAMP:20260423T094948
CREATED:20251218T212226Z
LAST-MODIFIED:20251218T212228Z
UID:10000081-1788861600-1788868800@partnershipmiami.org
SUMMARY:Miami-Dade HIV/AIDS Partnership
DESCRIPTION:NOTICE IS GIVEN that a Sunshine Meeting of the Miami-Dade HIV/AIDS Partnership is scheduled IN PERSON for the date and time indicated to review committee reports and action items\, review funding reports\, and address other such business as may come before the board. Please refer to the website link for details. \nThis is the required monthly meeting for members of the Miami-Dade HIV/AIDS Partnership. \nAll RSVPs are requested at least 48 hours in advance of the meeting. \n\nTo request meeting materials in accessible format\, a sign language interpreter\, CART (Communication Access Real-time Translation) services\, and/or any other accommodation to participate in this or any other Miami-Dade HIV/AIDS Partnership meeting\, please contact Christina Bontempo at (305) 445-1076 or send an email to mdcpartnership@behavioralscience.com at least five (5) calendar days in advance to initiate your request. TTY users may also call 711 (Florida Relay Services). Miami-Dade County provides equal access and equal opportunity in its programs\, services\, employment\, and activities and does not discriminate on the basis of disability. \nIf you are unable to attend this meeting but would like to leave a public comment on any item on the meeting agenda\, please call 305-445-1076 and leave a message to be read into the record at this meeting. Please include your name and local address when you leave your comment.
URL:https://partnershipmiami.org/calendar/miami-dade-hiv-aids-partnership-8/
LOCATION:Florida Department of Health-Health District Center\, 1350 NW 14th Street\, Conference Room 401B\, Miami\, FL\, 33125
CATEGORIES:Miami-Dade HIV/AIDS Partnership
ATTACH;FMTTYPE=image/jpeg:https://partnershipmiami.org/wp-content/uploads/2025/12/good-meeting.jpeg
ORGANIZER;CN="Christina Bontempo":MAILTO:cbontempo@behavioralscience.com
END:VEVENT
BEGIN:VEVENT
DTSTART;TZID=America/New_York:20261005T100000
DTEND;TZID=America/New_York:20261005T120000
DTSTAMP:20260423T094948
CREATED:20251201T180907Z
LAST-MODIFIED:20251201T180922Z
UID:10000050-1791194400-1791201600@partnershipmiami.org
SUMMARY:Miami-Dade HIV/AIDS Partnership
DESCRIPTION:NOTICE IS GIVEN that a Sunshine Meeting of the Miami-Dade HIV/AIDS Partnership is scheduled IN PERSON for the date and time indicated to review committee reports and action items\, review funding reports\, and address other such business as may come before the board. Please refer to the website link for details. \nThis is the required monthly meeting for members of the Miami-Dade HIV/AIDS Partnership. \nAll RSVPs are requested at least 48 hours in advance of the meeting. \n\nTo request meeting materials in accessible format\, a sign language interpreter\, CART (Communication Access Real-time Translation) services\, and/or any other accommodation to participate in this or any other Miami-Dade HIV/AIDS Partnership meeting\, please contact Christina Bontempo at (305) 445-1076 or send an email to mdcpartnership@behavioralscience.com at least five (5) calendar days in advance to initiate your request. TTY users may also call 711 (Florida Relay Services). Miami-Dade County provides equal access and equal opportunity in its programs\, services\, employment\, and activities and does not discriminate on the basis of disability. \nIf you are unable to attend this meeting but would like to leave a public comment on any item on the meeting agenda\, please call 305-445-1076 and leave a message to be read into the record at this meeting. Please include your name and local address when you leave your comment.
URL:https://partnershipmiami.org/calendar/miami-dade-hiv-aids-partnership-5/
LOCATION:Florida Department of Health-Health District Center\, 1350 NW 14th Street\, Conference Room 401B\, Miami\, FL\, 33125
CATEGORIES:Miami-Dade HIV/AIDS Partnership
ATTACH;FMTTYPE=image/jpeg:https://partnershipmiami.org/wp-content/uploads/2025/12/good-meeting.jpeg
ORGANIZER;CN="Christina Bontempo":MAILTO:cbontempo@behavioralscience.com
END:VEVENT
BEGIN:VEVENT
DTSTART;TZID=America/New_York:20261022T100000
DTEND;TZID=America/New_York:20261022T120000
DTSTAMP:20260423T094948
CREATED:20251210T183112Z
LAST-MODIFIED:20260107T195722Z
UID:10000136-1792663200-1792670400@partnershipmiami.org
SUMMARY:Prevention Committee
DESCRIPTION:NOTICE IS GIVEN that a Sunshine Meeting of the Miami-Dade HIV/AIDS Partnership’s Prevention Committee is scheduled IN PERSON for the date and time indicated to conduct regular committee business. Please refer to the website link for details. \nThis is the required monthly meeting for members of the Prevention Committee. \nAll RSVPs are requested at least 48 hours in advance of the meeting. \n\nTo request meeting materials in accessible format\, a sign language interpreter\, CART (Communication Access Real-time Translation) services\, and/or any other accommodation to participate in this or any other Miami-Dade HIV/AIDS Partnership meeting\, please contact Christina Bontempo at (305) 445-1076 or send an email to mdcpartnership@behavioralscience.com at least five (5) calendar days in advance to initiate your request. TTY users may also call 711 (Florida Relay Services). Miami-Dade County provides equal access and equal opportunity in its programs\, services\, employment\, and activities and does not discriminate on the basis of disability. \nIf you are unable to attend this meeting but would like to leave a public comment on any item on the meeting agenda\, please call 305-445-1076 and leave a message to be read into the record at this meeting. Please include your name and local address when you leave your comment.
URL:https://partnershipmiami.org/calendar/prevention-committee-6/
LOCATION:Florida Department of Health-Health District Center\, 1350 NW 14th Street\, Conference Room 401B\, Miami\, FL\, 33125
CATEGORIES:Miami-Dade HIV/AIDS Partnership
ATTACH;FMTTYPE=image/jpeg:https://partnershipmiami.org/wp-content/uploads/2025/12/istockphoto-860116564-612x612-pvc.jpg
ORGANIZER;CN="Christina Bontempo":MAILTO:cbontempo@behavioralscience.com
END:VEVENT
BEGIN:VEVENT
DTSTART;TZID=America/New_York:20261102T100000
DTEND;TZID=America/New_York:20261102T120000
DTSTAMP:20260423T094948
CREATED:20251201T180655Z
LAST-MODIFIED:20251201T180734Z
UID:10000051-1793613600-1793620800@partnershipmiami.org
SUMMARY:Miami-Dade HIV/AIDS Partnership
DESCRIPTION:NOTICE IS GIVEN that a Sunshine Meeting of the Miami-Dade HIV/AIDS Partnership is scheduled IN PERSON for the date and time indicated to review committee reports and action items\, review funding reports\, and address other such business as may come before the board. Please refer to the website link for details. \nThis is the required monthly meeting for members of the Miami-Dade HIV/AIDS Partnership. \nAll RSVPs are requested at least 48 hours in advance of the meeting. \n\nTo request meeting materials in accessible format\, a sign language interpreter\, CART (Communication Access Real-time Translation) services\, and/or any other accommodation to participate in this or any other Miami-Dade HIV/AIDS Partnership meeting\, please contact Christina Bontempo at (305) 445-1076 or send an email to mdcpartnership@behavioralscience.com at least five (5) calendar days in advance to initiate your request. TTY users may also call 711 (Florida Relay Services). Miami-Dade County provides equal access and equal opportunity in its programs\, services\, employment\, and activities and does not discriminate on the basis of disability. \nIf you are unable to attend this meeting but would like to leave a public comment on any item on the meeting agenda\, please call 305-445-1076 and leave a message to be read into the record at this meeting. Please include your name and local address when you leave your comment.
URL:https://partnershipmiami.org/calendar/miami-dade-hiv-aids-partnership-3/
LOCATION:Florida Department of Health-Health District Center\, 1350 NW 14th Street\, Conference Room 401B\, Miami\, FL\, 33125
CATEGORIES:Miami-Dade HIV/AIDS Partnership
ATTACH;FMTTYPE=image/jpeg:https://partnershipmiami.org/wp-content/uploads/2025/12/good-meeting.jpeg
ORGANIZER;CN="Christina Bontempo":MAILTO:cbontempo@behavioralscience.com
END:VEVENT
BEGIN:VEVENT
DTSTART;TZID=America/New_York:20261117T100000
DTEND;TZID=America/New_York:20261117T130000
DTSTAMP:20260423T094948
CREATED:20251201T182231Z
LAST-MODIFIED:20260212T170612Z
UID:10000064-1794909600-1794920400@partnershipmiami.org
SUMMARY:Joint Integrated Plan Review Team
DESCRIPTION:NOTICE IS GIVEN that a Sunshine Meeting of the Miami-Dade HIV/AIDS Partnership’s Joint Integrated Plan Review Team is scheduled IN PERSON for the date and time indicated to conduct regular committee business. Please refer to the website link for details. \nThis is the required monthly meeting for members of the Strategic Planning Committee and the Prevention Committee. \nAll RSVPs are requested at least 48 hours in advance of the meeting. \n\nTo request meeting materials in accessible format\, a sign language interpreter\, CART (Communication Access Real-time Translation) services\, and/or any other accommodation to participate in this or any other Miami-Dade HIV/AIDS Partnership meeting\, please contact Christina Bontempo at (305) 445-1076 or send an email to mdcpartnership@behavioralscience.com at least five (5) calendar days in advance to initiate your request. TTY users may also call 711 (Florida Relay Services). Miami-Dade County provides equal access and equal opportunity in its programs\, services\, employment\, and activities and does not discriminate on the basis of disability. \nIf you are unable to attend this meeting but would like to leave a public comment on any item on the meeting agenda\, please call 305-445-1076 and leave a message to be read into the record at this meeting. Please include your name and local address when you leave your comment.
URL:https://partnershipmiami.org/calendar/strategic-planning-committee-5/
LOCATION:Florida Department of Health-Health District Center\, 1350 NW 14th Street\, Conference Room 401B\, Miami\, FL\, 33125
CATEGORIES:Integrated Planning,Miami-Dade HIV/AIDS Partnership
ATTACH;FMTTYPE=image/jpeg:https://partnershipmiami.org/wp-content/uploads/2025/12/ending-hiv-goals.jpg
ORGANIZER;CN="Christina Bontempo":MAILTO:cbontempo@behavioralscience.com
END:VEVENT
BEGIN:VEVENT
DTSTART;TZID=America/New_York:20261207T100000
DTEND;TZID=America/New_York:20261207T120000
DTSTAMP:20260423T094948
CREATED:20251201T180703Z
LAST-MODIFIED:20251201T180801Z
UID:10000052-1796637600-1796644800@partnershipmiami.org
SUMMARY:Miami-Dade HIV/AIDS Partnership
DESCRIPTION:NOTICE IS GIVEN that a Sunshine Meeting of the Miami-Dade HIV/AIDS Partnership is scheduled IN PERSON for the date and time indicated to review committee reports and action items\, review funding reports\, and address other such business as may come before the board. Please refer to the website link for details. \nThis is the required monthly meeting for members of the Miami-Dade HIV/AIDS Partnership. \nAll RSVPs are requested at least 48 hours in advance of the meeting. \n\nTo request meeting materials in accessible format\, a sign language interpreter\, CART (Communication Access Real-time Translation) services\, and/or any other accommodation to participate in this or any other Miami-Dade HIV/AIDS Partnership meeting\, please contact Christina Bontempo at (305) 445-1076 or send an email to mdcpartnership@behavioralscience.com at least five (5) calendar days in advance to initiate your request. TTY users may also call 711 (Florida Relay Services). Miami-Dade County provides equal access and equal opportunity in its programs\, services\, employment\, and activities and does not discriminate on the basis of disability. \nIf you are unable to attend this meeting but would like to leave a public comment on any item on the meeting agenda\, please call 305-445-1076 and leave a message to be read into the record at this meeting. Please include your name and local address when you leave your comment.
URL:https://partnershipmiami.org/calendar/miami-dade-hiv-aids-partnership-4/
LOCATION:Florida Department of Health-Health District Center\, 1350 NW 14th Street\, Conference Room 401B\, Miami\, FL\, 33125
CATEGORIES:Miami-Dade HIV/AIDS Partnership
ATTACH;FMTTYPE=image/jpeg:https://partnershipmiami.org/wp-content/uploads/2025/12/good-meeting.jpeg
ORGANIZER;CN="Christina Bontempo":MAILTO:cbontempo@behavioralscience.com
END:VEVENT
END:VCALENDAR