BEGIN:VCALENDAR
VERSION:2.0
PRODID:-//PartnershipMiami - ECPv6.15.20//NONSGML v1.0//EN
CALSCALE:GREGORIAN
METHOD:PUBLISH
X-WR-CALNAME:PartnershipMiami
X-ORIGINAL-URL:https://partnershipmiami.org
X-WR-CALDESC:Events for PartnershipMiami
REFRESH-INTERVAL;VALUE=DURATION:PT1H
X-Robots-Tag:noindex
X-PUBLISHED-TTL:PT1H
BEGIN:VTIMEZONE
TZID:America/New_York
BEGIN:DAYLIGHT
TZOFFSETFROM:-0500
TZOFFSETTO:-0400
TZNAME:EDT
DTSTART:20250309T070000
END:DAYLIGHT
BEGIN:STANDARD
TZOFFSETFROM:-0400
TZOFFSETTO:-0500
TZNAME:EST
DTSTART:20251102T060000
END:STANDARD
BEGIN:DAYLIGHT
TZOFFSETFROM:-0500
TZOFFSETTO:-0400
TZNAME:EDT
DTSTART:20260308T070000
END:DAYLIGHT
BEGIN:STANDARD
TZOFFSETFROM:-0400
TZOFFSETTO:-0500
TZNAME:EST
DTSTART:20261101T060000
END:STANDARD
BEGIN:DAYLIGHT
TZOFFSETFROM:-0500
TZOFFSETTO:-0400
TZNAME:EDT
DTSTART:20270314T070000
END:DAYLIGHT
BEGIN:STANDARD
TZOFFSETFROM:-0400
TZOFFSETTO:-0500
TZNAME:EST
DTSTART:20271107T060000
END:STANDARD
END:VTIMEZONE
BEGIN:VEVENT
DTSTART;TZID=America/New_York:20260420T100000
DTEND;TZID=America/New_York:20260420T120000
DTSTAMP:20260423T105831
CREATED:20260324T151902Z
LAST-MODIFIED:20260324T151902Z
UID:10000200-1776679200-1776686400@partnershipmiami.org
SUMMARY:Miami-Dade HIV/AIDS Partnership
DESCRIPTION:NOTICE IS GIVEN that a Sunshine Meeting of the Miami-Dade HIV/AIDS Partnership is scheduled IN PERSON for the date and time indicated to review committee reports and action items\, review funding reports\, and address other such business as may come before the board. Please refer to the website link for details. \nThis is the required monthly meeting for members of the Miami-Dade HIV/AIDS Partnership. \nAll RSVPs are requested at least 48 hours in advance of the meeting. \n\nTo request meeting materials in accessible format\, a sign language interpreter\, CART (Communication Access Real-time Translation) services\, and/or any other accommodation to participate in this or any other Miami-Dade HIV/AIDS Partnership meeting\, please contact Christina Bontempo at (305) 445-1076 or send an email to mdcpartnership@behavioralscience.com at least five (5) calendar days in advance to initiate your request. TTY users may also call 711 (Florida Relay Services). Miami-Dade County provides equal access and equal opportunity in its programs\, services\, employment\, and activities and does not discriminate on the basis of disability. \nIf you are unable to attend this meeting but would like to leave a public comment on any item on the meeting agenda\, please call 305-445-1076 and leave a message to be read into the record at this meeting. Please include your name and local address when you leave your comment.
URL:https://partnershipmiami.org/calendar/miami-dade-hiv-aids-partnership-12/
LOCATION:Florida Department of Health-Health District Center\, 1350 NW 14th Street\, Conference Room 401B\, Miami\, FL\, 33125
CATEGORIES:Miami-Dade HIV/AIDS Partnership
ATTACH;FMTTYPE=image/jpeg:https://partnershipmiami.org/wp-content/uploads/2025/12/good-meeting.jpeg
ORGANIZER;CN="Christina Bontempo":MAILTO:cbontempo@behavioralscience.com
END:VEVENT
BEGIN:VEVENT
DTSTART;TZID=America/New_York:20260417T120000
DTEND;TZID=America/New_York:20260417T123000
DTSTAMP:20260423T105831
CREATED:20251209T162331Z
LAST-MODIFIED:20260324T152548Z
UID:10000084-1776427200-1776429000@partnershipmiami.org
SUMMARY:Report for Action!
DESCRIPTION:April Partnership Meeting Briefing\nReport for Action! is a 30-minute briefing of Reports and Action Items you can expect to see at your upcoming Partnership meeting. Join us 12:00 PM – 12:30 PM via Microsoft Teams. \n\n\n\n\nClick here to join via Microsoft Teams\n\n\n\nMeeting ID: 290 821 981 971 91\nPasscode: gU3Eg9Fz
URL:https://partnershipmiami.org/calendar/report-for-action-3/
CATEGORIES:Planning Council Member Enrichment Training
ATTACH;FMTTYPE=image/webp:https://partnershipmiami.org/wp-content/uploads/2025/12/R4A.webp
ORGANIZER;CN="Christina Bontempo":MAILTO:cbontempo@behavioralscience.com
END:VEVENT
BEGIN:VEVENT
DTSTART;TZID=America/New_York:20260414T100000
DTEND;TZID=America/New_York:20260414T120000
DTSTAMP:20260423T105831
CREATED:20251209T212443Z
LAST-MODIFIED:20251209T212446Z
UID:10000056-1776160800-1776168000@partnershipmiami.org
SUMMARY:Strategic Planning Committee
DESCRIPTION:NOTICE IS GIVEN that a Sunshine Meeting of the Miami-Dade HIV/AIDS Partnership’s Strategic Planning Committee is scheduled IN PERSON for the date and time indicated to conduct regular committee business. Please refer to the website link for details. \nThis is the required monthly meeting for members of the Strategic Planning Committee. \nAll RSVPs are requested at least 48 hours in advance of the meeting. \n\nTo request meeting materials in accessible format\, a sign language interpreter\, CART (Communication Access Real-time Translation) services\, and/or any other accommodation to participate in this or any other Miami-Dade HIV/AIDS Partnership meeting\, please contact Christina Bontempo at (305) 445-1076 or send an email to mdcpartnership@behavioralscience.com at least five (5) calendar days in advance to initiate your request. TTY users may also call 711 (Florida Relay Services). Miami-Dade County provides equal access and equal opportunity in its programs\, services\, employment\, and activities and does not discriminate on the basis of disability. \nIf you are unable to attend this meeting but would like to leave a public comment on any item on the meeting agenda\, please call 305-445-1076 and leave a message to be read into the record at this meeting. Please include your name and local address when you leave your comment.
URL:https://partnershipmiami.org/calendar/strategic-planning-committee-9/
LOCATION:Behavioral Science Research Corporation (BSR)\, 2121 Ponce de Leon Boulevard\, Suite 240\, Coral Gables\, FL\, 33134
CATEGORIES:Miami-Dade HIV/AIDS Partnership
ATTACH;FMTTYPE=image/webp:https://partnershipmiami.org/wp-content/uploads/2025/12/business-reportSPC.webp
ORGANIZER;CN="Christina Bontempo":MAILTO:cbontempo@behavioralscience.com
END:VEVENT
BEGIN:VEVENT
DTSTART;TZID=America/New_York:20260406T100000
DTEND;TZID=America/New_York:20260406T120000
DTSTAMP:20260423T105831
CREATED:20260324T151811Z
LAST-MODIFIED:20260324T151811Z
UID:10000199-1775469600-1775476800@partnershipmiami.org
SUMMARY:Miami-Dade HIV/AIDS Partnership
DESCRIPTION:NOTICE IS GIVEN that a Sunshine Meeting of the Miami-Dade HIV/AIDS Partnership is scheduled IN PERSON for the date and time indicated to review committee reports and action items\, review funding reports\, and address other such business as may come before the board. Please refer to the website link for details. \nThis is the required monthly meeting for members of the Miami-Dade HIV/AIDS Partnership. \nAll RSVPs are requested at least 48 hours in advance of the meeting. \n\nTo request meeting materials in accessible format\, a sign language interpreter\, CART (Communication Access Real-time Translation) services\, and/or any other accommodation to participate in this or any other Miami-Dade HIV/AIDS Partnership meeting\, please contact Christina Bontempo at (305) 445-1076 or send an email to mdcpartnership@behavioralscience.com at least five (5) calendar days in advance to initiate your request. TTY users may also call 711 (Florida Relay Services). Miami-Dade County provides equal access and equal opportunity in its programs\, services\, employment\, and activities and does not discriminate on the basis of disability. \nIf you are unable to attend this meeting but would like to leave a public comment on any item on the meeting agenda\, please call 305-445-1076 and leave a message to be read into the record at this meeting. Please include your name and local address when you leave your comment.
URL:https://partnershipmiami.org/calendar/miami-dade-hiv-aids-partnership-11/
CATEGORIES:Miami-Dade HIV/AIDS Partnership
ATTACH;FMTTYPE=image/jpeg:https://partnershipmiami.org/wp-content/uploads/2025/12/good-meeting.jpeg
ORGANIZER;CN="Christina Bontempo":MAILTO:cbontempo@behavioralscience.com
END:VEVENT
BEGIN:VEVENT
DTSTART;TZID=America/New_York:20260330T163000
DTEND;TZID=America/New_York:20260330T190000
DTSTAMP:20260423T105831
CREATED:20251210T195008Z
LAST-MODIFIED:20260317T140154Z
UID:10000153-1774888200-1774897200@partnershipmiami.org
SUMMARY:Community Coalition Roundtable
DESCRIPTION:
URL:https://partnershipmiami.org/calendar/community-coalition-roundtable-3/
CATEGORIES:Miami-Dade HIV/AIDS Partnership
ATTACH;FMTTYPE=image/jpeg:https://partnershipmiami.org/wp-content/uploads/2025/12/downloadCCR.jpeg
ORGANIZER;CN="Christina Bontempo":MAILTO:cbontempo@behavioralscience.com
END:VEVENT
BEGIN:VEVENT
DTSTART;TZID=America/New_York:20260326T100000
DTEND;TZID=America/New_York:20260326T120000
DTSTAMP:20260423T105831
CREATED:20251210T182506Z
LAST-MODIFIED:20260107T195809Z
UID:10000131-1774519200-1774526400@partnershipmiami.org
SUMMARY:Prevention Committee
DESCRIPTION:NOTICE IS GIVEN that a Sunshine Meeting of the Miami-Dade HIV/AIDS Partnership’s Prevention Committee is scheduled IN PERSON for the date and time indicated to conduct regular committee business. Please refer to the website link for details. \nThis is the required monthly meeting for members of the Prevention Committee. \nAll RSVPs are requested at least 48 hours in advance of the meeting. \n\nTo request meeting materials in accessible format\, a sign language interpreter\, CART (Communication Access Real-time Translation) services\, and/or any other accommodation to participate in this or any other Miami-Dade HIV/AIDS Partnership meeting\, please contact Christina Bontempo at (305) 445-1076 or send an email to mdcpartnership@behavioralscience.com at least five (5) calendar days in advance to initiate your request. TTY users may also call 711 (Florida Relay Services). Miami-Dade County provides equal access and equal opportunity in its programs\, services\, employment\, and activities and does not discriminate on the basis of disability. \nIf you are unable to attend this meeting but would like to leave a public comment on any item on the meeting agenda\, please call 305-445-1076 and leave a message to be read into the record at this meeting. Please include your name and local address when you leave your comment.
URL:https://partnershipmiami.org/calendar/prevention-committee/
LOCATION:Florida Department of Health-Health District Center\, 1350 NW 14th Street\, Conference Room 401B\, Miami\, FL\, 33125
CATEGORIES:Miami-Dade HIV/AIDS Partnership
ATTACH;FMTTYPE=image/jpeg:https://partnershipmiami.org/wp-content/uploads/2025/12/istockphoto-860116564-612x612-pvc.jpg
ORGANIZER;CN="Christina Bontempo":MAILTO:cbontempo@behavioralscience.com
END:VEVENT
BEGIN:VEVENT
DTSTART;TZID=America/New_York:20260310T100000
DTEND;TZID=America/New_York:20260310T120000
DTSTAMP:20260423T105831
CREATED:20251209T212324Z
LAST-MODIFIED:20251209T212510Z
UID:10000055-1773136800-1773144000@partnershipmiami.org
SUMMARY:Strategic Planning Committee
DESCRIPTION:NOTICE IS GIVEN that a Sunshine Meeting of the Miami-Dade HIV/AIDS Partnership’s Strategic Planning Committee is scheduled IN PERSON for the date and time indicated to conduct regular committee business. Please refer to the website link for details. \nThis is the required monthly meeting for members of the Strategic Planning Committee. \nAll RSVPs are requested at least 48 hours in advance of the meeting. \n\nTo request meeting materials in accessible format\, a sign language interpreter\, CART (Communication Access Real-time Translation) services\, and/or any other accommodation to participate in this or any other Miami-Dade HIV/AIDS Partnership meeting\, please contact Christina Bontempo at (305) 445-1076 or send an email to mdcpartnership@behavioralscience.com at least five (5) calendar days in advance to initiate your request. TTY users may also call 711 (Florida Relay Services). Miami-Dade County provides equal access and equal opportunity in its programs\, services\, employment\, and activities and does not discriminate on the basis of disability. \nIf you are unable to attend this meeting but would like to leave a public comment on any item on the meeting agenda\, please call 305-445-1076 and leave a message to be read into the record at this meeting. Please include your name and local address when you leave your comment.
URL:https://partnershipmiami.org/calendar/strategic-planning-committee-8/
LOCATION:Behavioral Science Research Corporation (BSR)\, 2121 Ponce de Leon Boulevard\, Suite 240\, Coral Gables\, FL\, 33134
CATEGORIES:Miami-Dade HIV/AIDS Partnership
ATTACH;FMTTYPE=image/webp:https://partnershipmiami.org/wp-content/uploads/2025/12/business-reportSPC.webp
ORGANIZER;CN="Christina Bontempo":MAILTO:cbontempo@behavioralscience.com
END:VEVENT
BEGIN:VEVENT
DTSTART;TZID=America/New_York:20260302T100000
DTEND;TZID=America/New_York:20260302T120000
DTSTAMP:20260423T105831
CREATED:20251201T175838Z
LAST-MODIFIED:20251209T161010Z
UID:10000040-1772445600-1772452800@partnershipmiami.org
SUMMARY:Miami-Dade HIV/AIDS Partnership
DESCRIPTION:NOTICE IS GIVEN that a Sunshine Meeting of the Miami-Dade HIV/AIDS Partnership is scheduled IN PERSON for the date and time indicated to review committee reports and action items\, review funding reports\, and address other such business as may come before the board. Please refer to the website link for details. \nThis is the required monthly meeting for members of the Miami-Dade HIV/AIDS Partnership. \nAll RSVPs are requested at least 48 hours in advance of the meeting. \n\nTo request meeting materials in accessible format\, a sign language interpreter\, CART (Communication Access Real-time Translation) services\, and/or any other accommodation to participate in this or any other Miami-Dade HIV/AIDS Partnership meeting\, please contact Christina Bontempo at (305) 445-1076 or send an email to mdcpartnership@behavioralscience.com at least five (5) calendar days in advance to initiate your request. TTY users may also call 711 (Florida Relay Services). Miami-Dade County provides equal access and equal opportunity in its programs\, services\, employment\, and activities and does not discriminate on the basis of disability. \nIf you are unable to attend this meeting but would like to leave a public comment on any item on the meeting agenda\, please call 305-445-1076 and leave a message to be read into the record at this meeting. Please include your name and local address when you leave your comment.
URL:https://partnershipmiami.org/calendar/miami-dade-hiv-aids-partnership/2026-03-02/
LOCATION:Florida Department of Health-Health District Center\, 1350 NW 14th Street\, Conference Room 401B\, Miami\, FL\, 33125
CATEGORIES:Miami-Dade HIV/AIDS Partnership
ATTACH;FMTTYPE=image/jpeg:https://partnershipmiami.org/wp-content/uploads/2025/12/good-meeting.jpeg
ORGANIZER;CN="Christina Bontempo":MAILTO:cbontempo@behavioralscience.com
END:VEVENT
BEGIN:VEVENT
DTSTART;TZID=America/New_York:20260227T120000
DTEND;TZID=America/New_York:20260227T123000
DTSTAMP:20260423T105831
CREATED:20251209T162239Z
LAST-MODIFIED:20260203T212054Z
UID:10000083-1772193600-1772195400@partnershipmiami.org
SUMMARY:Report for Action!
DESCRIPTION:March Partnership Meeting Briefing\nReport for Action! is a 30-minute briefing of Reports and Action Items you can expect to see at your upcoming Partnership meeting. Join us 12:00 PM – 12:30 PM via Microsoft Teams. \n\n\n\n\n\n\nVia Microsoft Teams: https://teams.microsoft.com/meet/24273827711489\nMeeting ID: 242 738 277 114 89\nPasscode: Rz2b46pa
URL:https://partnershipmiami.org/calendar/report-for-action-2/
CATEGORIES:Planning Council Member Enrichment Training
ATTACH;FMTTYPE=image/webp:https://partnershipmiami.org/wp-content/uploads/2025/12/R4A.webp
ORGANIZER;CN="Christina Bontempo":MAILTO:cbontempo@behavioralscience.com
END:VEVENT
BEGIN:VEVENT
DTSTART;TZID=America/New_York:20260223T153000
DTEND;TZID=America/New_York:20260223T180000
DTSTAMP:20260423T105831
CREATED:20251210T194936Z
LAST-MODIFIED:20260127T165302Z
UID:10000152-1771860600-1771869600@partnershipmiami.org
SUMMARY:Community Coalition Roundtable
DESCRIPTION:NOTICE IS GIVEN that a Sunshine Meeting of the Miami-Dade HIV/AIDS Partnership’s Community Coalition Roundtable is scheduled IN PERSON for the date and time indicated to conduct regular committee business. A light dinner will be served. Please refer to the website link for details. \nThis is the required monthly meeting for members of the Community Coalition Roundtable. \nAll RSVPs are requested at least 48 hours in advance of the meeting. \n\nTo request meeting materials in accessible format\, a sign language interpreter\, CART (Communication Access Real-time Translation) services\, and/or any other accommodation to participate in this or any other Miami-Dade HIV/AIDS Partnership meeting\, please contact Christina Bontempo at (305) 445-1076 or send an email to mdcpartnership@behavioralscience.com at least five (5) calendar days in advance to initiate your request. TTY users may also call 711 (Florida Relay Services). Miami-Dade County provides equal access and equal opportunity in its programs\, services\, employment\, and activities and does not discriminate on the basis of disability. \nIf you are unable to attend this meeting but would like to leave a public comment on any item on the meeting agenda\, please call 305-445-1076 and leave a message to be read into the record at this meeting. Please include your name and local address when you leave your comment.
URL:https://partnershipmiami.org/calendar/community-coalition-roundtable-2/
LOCATION:Borinquen Medical Centers\, 3601 Federal Highway\, 3rd Floor\, Miami\, FL\, 33137
CATEGORIES:Miami-Dade HIV/AIDS Partnership
ATTACH;FMTTYPE=image/jpeg:https://partnershipmiami.org/wp-content/uploads/2025/12/downloadCCR.jpeg
ORGANIZER;CN="Christina Bontempo":MAILTO:cbontempo@behavioralscience.com
END:VEVENT
BEGIN:VEVENT
DTSTART;TZID=America/New_York:20260217T100000
DTEND;TZID=America/New_York:20260217T130000
DTSTAMP:20260423T105831
CREATED:20251201T181952Z
LAST-MODIFIED:20260107T195845Z
UID:10000054-1771322400-1771333200@partnershipmiami.org
SUMMARY:Joint Integrated Plan Review Team
DESCRIPTION:NOTICE IS GIVEN that a Sunshine Meeting of the Miami-Dade HIV/AIDS Partnership’s Joint Integrated Plan Review Team is scheduled IN PERSON for the date and time indicated to conduct regular committee business. Please refer to the website link for details. \nThis is the required monthly meeting for members of the Strategic Planning Committee and the Prevention Committee. \nAll RSVPs are requested at least 48 hours in advance of the meeting. \n\nTo request meeting materials in accessible format\, a sign language interpreter\, CART (Communication Access Real-time Translation) services\, and/or any other accommodation to participate in this or any other Miami-Dade HIV/AIDS Partnership meeting\, please contact Christina Bontempo at (305) 445-1076 or send an email to mdcpartnership@behavioralscience.com at least five (5) calendar days in advance to initiate your request. TTY users may also call 711 (Florida Relay Services). Miami-Dade County provides equal access and equal opportunity in its programs\, services\, employment\, and activities and does not discriminate on the basis of disability. \nIf you are unable to attend this meeting but would like to leave a public comment on any item on the meeting agenda\, please call 305-445-1076 and leave a message to be read into the record at this meeting. Please include your name and local address when you leave your comment.
URL:https://partnershipmiami.org/calendar/strategic-planning-committee-2/
LOCATION:Florida Department of Health-Health District Center\, 1350 NW 14th Street\, Conference Room 401B\, Miami\, FL\, 33125
CATEGORIES:Integrated Planning,Miami-Dade HIV/AIDS Partnership
ATTACH;FMTTYPE=image/jpeg:https://partnershipmiami.org/wp-content/uploads/2025/12/ending-hiv-goals.jpg
ORGANIZER;CN="Christina Bontempo":MAILTO:cbontempo@behavioralscience.com
END:VEVENT
BEGIN:VEVENT
DTSTART;TZID=America/New_York:20260202T100000
DTEND;TZID=America/New_York:20260202T120000
DTSTAMP:20260423T105831
CREATED:20251201T175838Z
LAST-MODIFIED:20251209T161010Z
UID:10000039-1770026400-1770033600@partnershipmiami.org
SUMMARY:Miami-Dade HIV/AIDS Partnership
DESCRIPTION:NOTICE IS GIVEN that a Sunshine Meeting of the Miami-Dade HIV/AIDS Partnership is scheduled IN PERSON for the date and time indicated to review committee reports and action items\, review funding reports\, and address other such business as may come before the board. Please refer to the website link for details. \nThis is the required monthly meeting for members of the Miami-Dade HIV/AIDS Partnership. \nAll RSVPs are requested at least 48 hours in advance of the meeting. \n\nTo request meeting materials in accessible format\, a sign language interpreter\, CART (Communication Access Real-time Translation) services\, and/or any other accommodation to participate in this or any other Miami-Dade HIV/AIDS Partnership meeting\, please contact Christina Bontempo at (305) 445-1076 or send an email to mdcpartnership@behavioralscience.com at least five (5) calendar days in advance to initiate your request. TTY users may also call 711 (Florida Relay Services). Miami-Dade County provides equal access and equal opportunity in its programs\, services\, employment\, and activities and does not discriminate on the basis of disability. \nIf you are unable to attend this meeting but would like to leave a public comment on any item on the meeting agenda\, please call 305-445-1076 and leave a message to be read into the record at this meeting. Please include your name and local address when you leave your comment.
URL:https://partnershipmiami.org/calendar/miami-dade-hiv-aids-partnership/2026-02-02/
LOCATION:Florida Department of Health-Health District Center\, 1350 NW 14th Street\, Conference Room 401B\, Miami\, FL\, 33125
CATEGORIES:Miami-Dade HIV/AIDS Partnership
ATTACH;FMTTYPE=image/jpeg:https://partnershipmiami.org/wp-content/uploads/2025/12/good-meeting.jpeg
ORGANIZER;CN="Christina Bontempo":MAILTO:cbontempo@behavioralscience.com
END:VEVENT
BEGIN:VEVENT
DTSTART;TZID=America/New_York:20260130T120000
DTEND;TZID=America/New_York:20260130T123000
DTSTAMP:20260423T105831
CREATED:20251209T161902Z
LAST-MODIFIED:20260119T212711Z
UID:10000082-1769774400-1769776200@partnershipmiami.org
SUMMARY:Report for Action!
DESCRIPTION:February Partnership Meeting Briefing\nReport for Action! is a 30-minute briefing of Reports and Action Items you can expect to see at your upcoming Partnership meeting. Join us 12:00 PM – 12:30 PM via Microsoft Teams. \n\n\n\n\nClick here to join via Microsoft Teams\n\n\n\nMeeting ID: 239 079 071 159 97\nPasscode: bK6ng73b
URL:https://partnershipmiami.org/calendar/report-for-action-february-partnership-meeting-briefing/
CATEGORIES:Planning Council Member Enrichment Training
ATTACH;FMTTYPE=image/webp:https://partnershipmiami.org/wp-content/uploads/2025/12/R4A.webp
ORGANIZER;CN="Christina Bontempo":MAILTO:cbontempo@behavioralscience.com
END:VEVENT
BEGIN:VEVENT
DTSTART;TZID=America/New_York:20260126T153000
DTEND;TZID=America/New_York:20260126T180000
DTSTAMP:20260423T105831
CREATED:20251210T194821Z
LAST-MODIFIED:20251211T150329Z
UID:10000151-1769441400-1769450400@partnershipmiami.org
SUMMARY:Community Coalition Roundtable
DESCRIPTION:NOTICE IS GIVEN that a Sunshine Meeting of the Miami-Dade HIV/AIDS Partnership’s Community Coalition Roundtable is scheduled IN PERSON for the date and time indicated to conduct regular committee business. A light dinner will be served. Please refer to the website link for details. \nThis is the required monthly meeting for members of the Community Coalition Roundtable. \nAll RSVPs are requested at least 48 hours in advance of the meeting. \n\nTo request meeting materials in accessible format\, a sign language interpreter\, CART (Communication Access Real-time Translation) services\, and/or any other accommodation to participate in this or any other Miami-Dade HIV/AIDS Partnership meeting\, please contact Christina Bontempo at (305) 445-1076 or send an email to mdcpartnership@behavioralscience.com at least five (5) calendar days in advance to initiate your request. TTY users may also call 711 (Florida Relay Services). Miami-Dade County provides equal access and equal opportunity in its programs\, services\, employment\, and activities and does not discriminate on the basis of disability. \nIf you are unable to attend this meeting but would like to leave a public comment on any item on the meeting agenda\, please call 305-445-1076 and leave a message to be read into the record at this meeting. Please include your name and local address when you leave your comment.
URL:https://partnershipmiami.org/calendar/community-coalition-roundtable/
LOCATION:Borinquen Medical Centers\, 3601 Federal Highway\, 3rd Floor\, Miami\, FL\, 33137
CATEGORIES:Miami-Dade HIV/AIDS Partnership
ATTACH;FMTTYPE=image/jpeg:https://partnershipmiami.org/wp-content/uploads/2025/12/downloadCCR.jpeg
ORGANIZER;CN="Christina Bontempo":MAILTO:cbontempo@behavioralscience.com
END:VEVENT
BEGIN:VEVENT
DTSTART;TZID=America/New_York:20260122T100000
DTEND;TZID=America/New_York:20260122T120000
DTSTAMP:20260423T105831
CREATED:20251209T213355Z
LAST-MODIFIED:20260107T195816Z
UID:10000116-1769076000-1769083200@partnershipmiami.org
SUMMARY:Prevention Committee
DESCRIPTION:NOTICE IS GIVEN that a Sunshine Meeting of the Miami-Dade HIV/AIDS Partnership’s Prevention Committee is scheduled IN PERSON for the date and time indicated to conduct regular committee business. Please refer to the website link for details. \nThis is the required monthly meeting for members of the Prevention Committee. \nAll RSVPs are requested at least 48 hours in advance of the meeting. \n\nTo request meeting materials in accessible format\, a sign language interpreter\, CART (Communication Access Real-time Translation) services\, and/or any other accommodation to participate in this or any other Miami-Dade HIV/AIDS Partnership meeting\, please contact Christina Bontempo at (305) 445-1076 or send an email to mdcpartnership@behavioralscience.com at least five (5) calendar days in advance to initiate your request. TTY users may also call 711 (Florida Relay Services). Miami-Dade County provides equal access and equal opportunity in its programs\, services\, employment\, and activities and does not discriminate on the basis of disability. \nIf you are unable to attend this meeting but would like to leave a public comment on any item on the meeting agenda\, please call 305-445-1076 and leave a message to be read into the record at this meeting. Please include your name and local address when you leave your comment.
URL:https://partnershipmiami.org/calendar/strategic-planning-committee-14/
LOCATION:Florida Department of Health-Health District Center\, 1350 NW 14th Street\, Conference Room 401B\, Miami\, FL\, 33125
CATEGORIES:Miami-Dade HIV/AIDS Partnership
ATTACH;FMTTYPE=image/jpeg:https://partnershipmiami.org/wp-content/uploads/2025/12/istockphoto-860116564-612x612-pvc.jpg
ORGANIZER;CN="Christina Bontempo":MAILTO:cbontempo@behavioralscience.com
END:VEVENT
BEGIN:VEVENT
DTSTART;TZID=America/New_York:20260113T100000
DTEND;TZID=America/New_York:20260113T120000
DTSTAMP:20260423T105831
CREATED:20251209T205440Z
LAST-MODIFIED:20260113T164808Z
UID:10000053-1768298400-1768305600@partnershipmiami.org
SUMMARY:Strategic Planning Committee
DESCRIPTION:
URL:https://partnershipmiami.org/calendar/strategic-planning-committee-7/
LOCATION:Behavioral Science Research Corporation (BSR)\, 2121 Ponce de Leon Boulevard\, Suite 240\, Coral Gables\, FL\, 33134
CATEGORIES:Miami-Dade HIV/AIDS Partnership
ATTACH;FMTTYPE=image/webp:https://partnershipmiami.org/wp-content/uploads/2025/12/business-reportSPC.webp
ORGANIZER;CN="Christina Bontempo":MAILTO:cbontempo@behavioralscience.com
END:VEVENT
BEGIN:VEVENT
DTSTART;TZID=America/New_York:20260105T100000
DTEND;TZID=America/New_York:20260105T120000
DTSTAMP:20260423T105831
CREATED:20251217T171501Z
LAST-MODIFIED:20260106T161248Z
UID:10000038-1767607200-1767614400@partnershipmiami.org
SUMMARY:Miami-Dade HIV/AIDS Partnership
DESCRIPTION:
URL:https://partnershipmiami.org/calendar/miami-dade-hiv-aids-partnership-2/
CATEGORIES:Miami-Dade HIV/AIDS Partnership
ATTACH;FMTTYPE=image/jpeg:https://partnershipmiami.org/wp-content/uploads/2025/12/good-meeting.jpeg
ORGANIZER;CN="Christina Bontempo":MAILTO:cbontempo@behavioralscience.com
END:VEVENT
END:VCALENDAR