BEGIN:VCALENDAR
VERSION:2.0
PRODID:-//PartnershipMiami - ECPv6.15.20//NONSGML v1.0//EN
CALSCALE:GREGORIAN
METHOD:PUBLISH
X-WR-CALNAME:PartnershipMiami
X-ORIGINAL-URL:https://partnershipmiami.org
X-WR-CALDESC:Events for PartnershipMiami
REFRESH-INTERVAL;VALUE=DURATION:PT1H
X-Robots-Tag:noindex
X-PUBLISHED-TTL:PT1H
BEGIN:VTIMEZONE
TZID:America/New_York
BEGIN:DAYLIGHT
TZOFFSETFROM:-0500
TZOFFSETTO:-0400
TZNAME:EDT
DTSTART:20250309T070000
END:DAYLIGHT
BEGIN:STANDARD
TZOFFSETFROM:-0400
TZOFFSETTO:-0500
TZNAME:EST
DTSTART:20251102T060000
END:STANDARD
BEGIN:DAYLIGHT
TZOFFSETFROM:-0500
TZOFFSETTO:-0400
TZNAME:EDT
DTSTART:20260308T070000
END:DAYLIGHT
BEGIN:STANDARD
TZOFFSETFROM:-0400
TZOFFSETTO:-0500
TZNAME:EST
DTSTART:20261101T060000
END:STANDARD
BEGIN:DAYLIGHT
TZOFFSETFROM:-0500
TZOFFSETTO:-0400
TZNAME:EDT
DTSTART:20270314T070000
END:DAYLIGHT
BEGIN:STANDARD
TZOFFSETFROM:-0400
TZOFFSETTO:-0500
TZNAME:EST
DTSTART:20271107T060000
END:STANDARD
END:VTIMEZONE
BEGIN:VEVENT
DTSTART;TZID=America/New_York:20260501T120000
DTEND;TZID=America/New_York:20260501T123000
DTSTAMP:20260423T082541
CREATED:20251209T162428Z
LAST-MODIFIED:20260324T152753Z
UID:10000085-1777636800-1777638600@partnershipmiami.org
SUMMARY:Report for Action!
DESCRIPTION:
URL:https://partnershipmiami.org/calendar/report-for-action-4/
CATEGORIES:Planning Council Member Enrichment Training
ATTACH;FMTTYPE=image/webp:https://partnershipmiami.org/wp-content/uploads/2025/12/R4A.webp
ORGANIZER;CN="Christina Bontempo":MAILTO:cbontempo@behavioralscience.com
END:VEVENT
BEGIN:VEVENT
DTSTART;TZID=America/New_York:20260529T120000
DTEND;TZID=America/New_York:20260529T123000
DTSTAMP:20260423T082541
CREATED:20251209T162505Z
LAST-MODIFIED:20260304T143920Z
UID:10000086-1780056000-1780057800@partnershipmiami.org
SUMMARY:Report for Action!
DESCRIPTION:June Partnership Meeting Briefing\nReport for Action! is a 30-minute briefing of Reports and Action Items you can expect to see at your upcoming Partnership meeting. Join us 12:00 PM – 12:30 PM via Microsoft Teams. \nClick here to join via Microsoft Teams\n\n\n\nMeeting ID: 240 626 828 809 9\nPassword: yn9Me3MT
URL:https://partnershipmiami.org/calendar/report-for-action-5/
CATEGORIES:Planning Council Member Enrichment Training
ATTACH;FMTTYPE=image/webp:https://partnershipmiami.org/wp-content/uploads/2025/12/R4A.webp
ORGANIZER;CN="Christina Bontempo":MAILTO:cbontempo@behavioralscience.com
END:VEVENT
BEGIN:VEVENT
DTSTART;TZID=America/New_York:20260702T120000
DTEND;TZID=America/New_York:20260702T123000
DTSTAMP:20260423T082541
CREATED:20251209T162615Z
LAST-MODIFIED:20260119T212631Z
UID:10000087-1782993600-1782995400@partnershipmiami.org
SUMMARY:Report for Action!
DESCRIPTION:July Partnership Meeting Briefing\nReport for Action! is a 30-minute briefing of Reports and Action Items you can expect to see at your upcoming Partnership meeting. Join us 12:00 PM – 12:30 PM via Microsoft Teams. \n\n\n\n\nClick here to join via Microsoft Teams\n\n\n\nMeeting ID: 239 079 071 159 97\nPasscode: bK6ng73b
URL:https://partnershipmiami.org/calendar/report-for-action-6/
CATEGORIES:Planning Council Member Enrichment Training
ATTACH;FMTTYPE=image/webp:https://partnershipmiami.org/wp-content/uploads/2025/12/R4A.webp
ORGANIZER;CN="Christina Bontempo":MAILTO:cbontempo@behavioralscience.com
END:VEVENT
BEGIN:VEVENT
DTSTART;TZID=America/New_York:20260731T120000
DTEND;TZID=America/New_York:20260731T123000
DTSTAMP:20260423T082541
CREATED:20251209T163204Z
LAST-MODIFIED:20260119T212624Z
UID:10000088-1785499200-1785501000@partnershipmiami.org
SUMMARY:Report for Action!
DESCRIPTION:August Partnership Meeting Briefing\nReport for Action! is a 30-minute briefing of Reports and Action Items you can expect to see at your upcoming Partnership meeting. Join us 12:00 PM – 12:30 PM via Microsoft Teams. \n\n\n\n\nClick here to join via Microsoft Teams\n\n\n\nMeeting ID: 239 079 071 159 97\nPasscode: bK6ng73b
URL:https://partnershipmiami.org/calendar/report-for-action-7/
CATEGORIES:Planning Council Member Enrichment Training
ATTACH;FMTTYPE=image/webp:https://partnershipmiami.org/wp-content/uploads/2025/12/R4A.webp
ORGANIZER;CN="Christina Bontempo":MAILTO:cbontempo@behavioralscience.com
END:VEVENT
BEGIN:VEVENT
DTSTART;TZID=America/New_York:20260904T120000
DTEND;TZID=America/New_York:20260904T123000
DTSTAMP:20260423T082541
CREATED:20251209T163345Z
LAST-MODIFIED:20251209T163345Z
UID:10000089-1788523200-1788525000@partnershipmiami.org
SUMMARY:Report for Action!
DESCRIPTION:September Partnership Meeting Briefing\nReport for Action! is a 30-minute briefing of Reports and Action Items you can expect to see at your upcoming Partnership meeting. Join us 12:00 PM – 12:30 PM via Microsoft Teams. \n\n\n\n\nClick here to join via Microsoft Teams\n\n\n\nMeeting ID: 239 079 071 159 97\nPasscode: bK6ng73b
URL:https://partnershipmiami.org/calendar/report-for-action-8/
CATEGORIES:Planning Council Member Enrichment Training
ATTACH;FMTTYPE=image/webp:https://partnershipmiami.org/wp-content/uploads/2025/12/R4A.webp
ORGANIZER;CN="Christina Bontempo":MAILTO:cbontempo@behavioralscience.com
END:VEVENT
BEGIN:VEVENT
DTSTART;TZID=America/New_York:20261002T120000
DTEND;TZID=America/New_York:20261002T123000
DTSTAMP:20260423T082541
CREATED:20251209T163439Z
LAST-MODIFIED:20260119T212618Z
UID:10000090-1790942400-1790944200@partnershipmiami.org
SUMMARY:Report for Action!
DESCRIPTION:October Partnership Meeting Briefing\nReport for Action! is a 30-minute briefing of Reports and Action Items you can expect to see at your upcoming Partnership meeting. Join us 12:00 PM – 12:30 PM via Microsoft Teams. \n\n\n\n\nClick here to join via Microsoft Teams\n\n\n\nMeeting ID: 239 079 071 159 97\nPasscode: bK6ng73b
URL:https://partnershipmiami.org/calendar/report-for-action-9/
CATEGORIES:Planning Council Member Enrichment Training
ATTACH;FMTTYPE=image/webp:https://partnershipmiami.org/wp-content/uploads/2025/12/R4A.webp
ORGANIZER;CN="Christina Bontempo":MAILTO:cbontempo@behavioralscience.com
END:VEVENT
BEGIN:VEVENT
DTSTART;TZID=America/New_York:20261030T120000
DTEND;TZID=America/New_York:20261030T123000
DTSTAMP:20260423T082541
CREATED:20251209T163534Z
LAST-MODIFIED:20260119T212611Z
UID:10000091-1793361600-1793363400@partnershipmiami.org
SUMMARY:Report for Action!
DESCRIPTION:November Partnership Meeting Briefing\nReport for Action! is a 30-minute briefing of Reports and Action Items you can expect to see at your upcoming Partnership meeting. Join us 12:00 PM – 12:30 PM via Microsoft Teams. \n\n\n\n\nClick here to join via Microsoft Teams\n\n\n\nMeeting ID: 239 079 071 159 97\nPasscode: bK6ng73b
URL:https://partnershipmiami.org/calendar/report-for-action-10/
CATEGORIES:Planning Council Member Enrichment Training
ATTACH;FMTTYPE=image/webp:https://partnershipmiami.org/wp-content/uploads/2025/12/R4A.webp
ORGANIZER;CN="Christina Bontempo":MAILTO:cbontempo@behavioralscience.com
END:VEVENT
BEGIN:VEVENT
DTSTART;TZID=America/New_York:20261204T120000
DTEND;TZID=America/New_York:20261204T123000
DTSTAMP:20260423T082541
CREATED:20251209T163651Z
LAST-MODIFIED:20260119T212603Z
UID:10000092-1796385600-1796387400@partnershipmiami.org
SUMMARY:Report for Action!
DESCRIPTION:December Partnership Meeting Briefing\nReport for Action! is a 30-minute briefing of Reports and Action Items you can expect to see at your upcoming Partnership meeting. Join us 12:00 PM – 12:30 PM via Microsoft Teams. \n\n\n\n\nClick here to join via Microsoft Teams\n\n\n\nMeeting ID: 239 079 071 159 97\nPasscode: bK6ng73b
URL:https://partnershipmiami.org/calendar/report-for-action-11/
CATEGORIES:Planning Council Member Enrichment Training
ATTACH;FMTTYPE=image/webp:https://partnershipmiami.org/wp-content/uploads/2025/12/R4A.webp
ORGANIZER;CN="Christina Bontempo":MAILTO:cbontempo@behavioralscience.com
END:VEVENT
END:VCALENDAR