BEGIN:VCALENDAR
VERSION:2.0
PRODID:-//PartnershipMiami - ECPv6.15.20//NONSGML v1.0//EN
CALSCALE:GREGORIAN
METHOD:PUBLISH
X-WR-CALNAME:PartnershipMiami
X-ORIGINAL-URL:https://partnershipmiami.org
X-WR-CALDESC:Events for PartnershipMiami
REFRESH-INTERVAL;VALUE=DURATION:PT1H
X-Robots-Tag:noindex
X-PUBLISHED-TTL:PT1H
BEGIN:VTIMEZONE
TZID:America/New_York
BEGIN:DAYLIGHT
TZOFFSETFROM:-0500
TZOFFSETTO:-0400
TZNAME:EDT
DTSTART:20240310T070000
END:DAYLIGHT
BEGIN:STANDARD
TZOFFSETFROM:-0400
TZOFFSETTO:-0500
TZNAME:EST
DTSTART:20241103T060000
END:STANDARD
BEGIN:DAYLIGHT
TZOFFSETFROM:-0500
TZOFFSETTO:-0400
TZNAME:EDT
DTSTART:20250309T070000
END:DAYLIGHT
BEGIN:STANDARD
TZOFFSETFROM:-0400
TZOFFSETTO:-0500
TZNAME:EST
DTSTART:20251102T060000
END:STANDARD
BEGIN:DAYLIGHT
TZOFFSETFROM:-0500
TZOFFSETTO:-0400
TZNAME:EDT
DTSTART:20260308T070000
END:DAYLIGHT
BEGIN:STANDARD
TZOFFSETFROM:-0400
TZOFFSETTO:-0500
TZNAME:EST
DTSTART:20261101T060000
END:STANDARD
BEGIN:DAYLIGHT
TZOFFSETFROM:-0500
TZOFFSETTO:-0400
TZNAME:EDT
DTSTART:20270314T070000
END:DAYLIGHT
BEGIN:STANDARD
TZOFFSETFROM:-0400
TZOFFSETTO:-0500
TZNAME:EST
DTSTART:20271107T060000
END:STANDARD
END:VTIMEZONE
BEGIN:VEVENT
DTSTART;TZID=America/New_York:20260113T100000
DTEND;TZID=America/New_York:20260113T120000
DTSTAMP:20260423T150504
CREATED:20251209T205440Z
LAST-MODIFIED:20260113T164808Z
UID:10000053-1768298400-1768305600@partnershipmiami.org
SUMMARY:Strategic Planning Committee
DESCRIPTION:
URL:https://partnershipmiami.org/calendar/strategic-planning-committee-7/
LOCATION:Behavioral Science Research Corporation (BSR)\, 2121 Ponce de Leon Boulevard\, Suite 240\, Coral Gables\, FL\, 33134
CATEGORIES:Miami-Dade HIV/AIDS Partnership
ATTACH;FMTTYPE=image/webp:https://partnershipmiami.org/wp-content/uploads/2025/12/business-reportSPC.webp
ORGANIZER;CN="Christina Bontempo":MAILTO:cbontempo@behavioralscience.com
END:VEVENT
BEGIN:VEVENT
DTSTART;TZID=America/New_York:20260108T100000
DTEND;TZID=America/New_York:20260108T120000
DTSTAMP:20260423T150504
CREATED:20251201T182144Z
LAST-MODIFIED:20260106T161404Z
UID:10000061-1767866400-1767873600@partnershipmiami.org
SUMMARY:Care and Treatment Committee
DESCRIPTION:
URL:https://partnershipmiami.org/calendar/strategic-planning-committee-4/
CATEGORIES:Miami-Dade HIV/AIDS Partnership
ATTACH;FMTTYPE=image/png:https://partnershipmiami.org/wp-content/uploads/2025/12/ClipartCT.png
ORGANIZER;CN="Marlen Meizoso":MAILTO:marlen@behavioralscience.com
END:VEVENT
BEGIN:VEVENT
DTSTART;TZID=America/New_York:20260107T120000
DTEND;TZID=America/New_York:20260107T130000
DTSTAMP:20260423T150504
CREATED:20251209T201511Z
LAST-MODIFIED:20251209T203215Z
UID:10000093-1767787200-1767790800@partnershipmiami.org
SUMMARY:Get on Board!
DESCRIPTION:2026 Kickoff! From Meeting Notice to Adjournment!\nGet On Board! is a 60-minute interactive training on member-related topics such as Meeting Procedures\, Understanding Monthly Reports\, Getting to Know Local Funders\, Recruitment Strategies\, Ending the HIV Epidemic\, Needs Assessment\, Integrated Planning\, and more! Join us 12:00 PM – 1:00 PM via Microsoft Teams. \n\n\n\n\nRegistration Required: January Registration Link
URL:https://partnershipmiami.org/calendar/get-on-board/
CATEGORIES:Planning Council Member Enrichment Training
ATTACH;FMTTYPE=image/jpeg:https://partnershipmiami.org/wp-content/uploads/2025/12/Train.jpg
ORGANIZER;CN="Marlen Meizoso":MAILTO:marlen@behavioralscience.com
END:VEVENT
BEGIN:VEVENT
DTSTART;TZID=America/New_York:20260105T100000
DTEND;TZID=America/New_York:20260105T120000
DTSTAMP:20260423T150504
CREATED:20251217T171501Z
LAST-MODIFIED:20260106T161248Z
UID:10000038-1767607200-1767614400@partnershipmiami.org
SUMMARY:Miami-Dade HIV/AIDS Partnership
DESCRIPTION:
URL:https://partnershipmiami.org/calendar/miami-dade-hiv-aids-partnership-2/
CATEGORIES:Miami-Dade HIV/AIDS Partnership
ATTACH;FMTTYPE=image/jpeg:https://partnershipmiami.org/wp-content/uploads/2025/12/good-meeting.jpeg
ORGANIZER;CN="Christina Bontempo":MAILTO:cbontempo@behavioralscience.com
END:VEVENT
BEGIN:VEVENT
DTSTART;VALUE=DATE:20260102
DTEND;VALUE=DATE:20260103
DTSTAMP:20260423T150504
CREATED:20251217T204730Z
LAST-MODIFIED:20251217T204730Z
UID:10000184-1767312000-1767398399@partnershipmiami.org
SUMMARY:BSR Offices are Closed ~ Happy Holidays!
DESCRIPTION:
URL:https://partnershipmiami.org/calendar/bsr-offices-are-closed-happy-holidays-4/
ATTACH;FMTTYPE=application/pdf:https://partnershipmiami.org/wp-content/uploads/2025/12/2025-Card-1.pdf
END:VEVENT
BEGIN:VEVENT
DTSTART;VALUE=DATE:20260101
DTEND;VALUE=DATE:20260102
DTSTAMP:20260423T150504
CREATED:20251217T204700Z
LAST-MODIFIED:20251217T204700Z
UID:10000183-1767225600-1767311999@partnershipmiami.org
SUMMARY:BSR Offices are Closed ~ Happy Holidays!
DESCRIPTION:
URL:https://partnershipmiami.org/calendar/bsr-offices-are-closed-happy-holidays-3/
ATTACH;FMTTYPE=application/pdf:https://partnershipmiami.org/wp-content/uploads/2025/12/2025-Card-1.pdf
END:VEVENT
BEGIN:VEVENT
DTSTART;VALUE=DATE:20251226
DTEND;VALUE=DATE:20251227
DTSTAMP:20260423T150504
CREATED:20251217T204625Z
LAST-MODIFIED:20251217T204625Z
UID:10000182-1766707200-1766793599@partnershipmiami.org
SUMMARY:BSR Offices are Closed ~ Happy Holidays!
DESCRIPTION:
URL:https://partnershipmiami.org/calendar/bsr-offices-are-closed-happy-holidays-2/
ATTACH;FMTTYPE=application/pdf:https://partnershipmiami.org/wp-content/uploads/2025/12/2025-Card-1.pdf
END:VEVENT
BEGIN:VEVENT
DTSTART;VALUE=DATE:20251225
DTEND;VALUE=DATE:20251226
DTSTAMP:20260423T150504
CREATED:20251217T204517Z
LAST-MODIFIED:20251217T204517Z
UID:10000181-1766620800-1766707199@partnershipmiami.org
SUMMARY:BSR Offices are Closed ~ Happy Holidays!
DESCRIPTION:
URL:https://partnershipmiami.org/calendar/bsr-offices-are-closed-happy-holidays/
ATTACH;FMTTYPE=application/pdf:https://partnershipmiami.org/wp-content/uploads/2025/12/2025-Card-1.pdf
END:VEVENT
BEGIN:VEVENT
DTSTART;TZID=America/New_York:20251217T100000
DTEND;TZID=America/New_York:20251217T170000
DTSTAMP:20260423T150504
CREATED:20251211T135506Z
LAST-MODIFIED:20251211T142856Z
UID:10000178-1765965600-1765990800@partnershipmiami.org
SUMMARY:Medical Case Management Supervisor Training
DESCRIPTION:The Medical Case Management (MCM) Supervisor training is held quarterly during the fiscal year (May\, August\, November\, February) for program managers\, supervisors\, and lead medical case managers. The trainings cover topics critical to developing effective management skills such as performance management\, motivation\, team development\, interpersonal and communication skills\, supervisory skills training and time management skills – everything you need to manage people effectively. The trainings also address the Ryan White Program Service Delivery Guidelines and Standards of Care for medical case management. \nContact Sandra Sergi for meeting log in via Teams.
URL:https://partnershipmiami.org/calendar/medical-case-management-mcm-supervisor-training/
CATEGORIES:Medical Case Management
ATTACH;FMTTYPE=image/jpeg:https://partnershipmiami.org/wp-content/uploads/2025/12/pngtree-business-team-work-concept-target-with-an-arrow-hit-the-target-png-image_2158007super.jpg
ORGANIZER;CN="Sandra Sergi":MAILTO:ssergi@behavioralscience.com
END:VEVENT
BEGIN:VEVENT
DTSTART;TZID=America/New_York:20251211T100000
DTEND;TZID=America/New_York:20251211T120000
DTSTAMP:20260423T150504
CREATED:20251210T192736Z
LAST-MODIFIED:20251210T192736Z
UID:10000148-1765447200-1765454400@partnershipmiami.org
SUMMARY:Care and Treatment Committee
DESCRIPTION:NOTICE IS GIVEN that a Sunshine Meeting of the Miami-Dade HIV/AIDS Partnership’s Care and Treatment Committee is scheduled IN PERSON for the date and time indicated to conduct regular committee business. Please refer to the website link for details. \nThis is the required monthly meeting for members of the Care and Treatment Committee. \nAll RSVPs are requested at least 48 hours in advance of the meeting. \n\nTo request meeting materials in accessible format\, a sign language interpreter\, CART (Communication Access Real-time Translation) services\, and/or any other accommodation to participate in this or any other Miami-Dade HIV/AIDS Partnership meeting\, please contact Marlen Meizoso at (305) 445-1076 or send an email to mdcpartnership@behavioralscience.com at least five (5) calendar days in advance to initiate your request. TTY users may also call 711 (Florida Relay Services). Miami-Dade County provides equal access and equal opportunity in its programs\, services\, employment\, and activities and does not discriminate on the basis of disability. \nIf you are unable to attend this meeting but would like to leave a public comment on any item on the meeting agenda\, please call 305-445-1076 and leave a message to be read into the record at this meeting. Please include your name and local address when you leave your comment.
URL:https://partnershipmiami.org/calendar/care-and-treatment-committee-10/
LOCATION:Care Resource Community Health Centers\, 3510 Biscayne Boulevard\, 1st Floor Community Room\, Miami\, FL\, 33137
CATEGORIES:Miami-Dade HIV/AIDS Partnership
ATTACH;FMTTYPE=image/png:https://partnershipmiami.org/wp-content/uploads/2025/12/ClipartCT.png
ORGANIZER;CN="Marlen Meizoso":MAILTO:marlen@behavioralscience.com
END:VEVENT
END:VCALENDAR