BEGIN:VCALENDAR
VERSION:2.0
PRODID:-//PartnershipMiami - ECPv6.15.20//NONSGML v1.0//EN
CALSCALE:GREGORIAN
METHOD:PUBLISH
X-ORIGINAL-URL:https://partnershipmiami.org
X-WR-CALDESC:Events for PartnershipMiami
REFRESH-INTERVAL;VALUE=DURATION:PT1H
X-Robots-Tag:noindex
X-PUBLISHED-TTL:PT1H
BEGIN:VTIMEZONE
TZID:America/New_York
BEGIN:DAYLIGHT
TZOFFSETFROM:-0500
TZOFFSETTO:-0400
TZNAME:EDT
DTSTART:20250309T070000
END:DAYLIGHT
BEGIN:STANDARD
TZOFFSETFROM:-0400
TZOFFSETTO:-0500
TZNAME:EST
DTSTART:20251102T060000
END:STANDARD
BEGIN:DAYLIGHT
TZOFFSETFROM:-0500
TZOFFSETTO:-0400
TZNAME:EDT
DTSTART:20260308T070000
END:DAYLIGHT
BEGIN:STANDARD
TZOFFSETFROM:-0400
TZOFFSETTO:-0500
TZNAME:EST
DTSTART:20261101T060000
END:STANDARD
BEGIN:DAYLIGHT
TZOFFSETFROM:-0500
TZOFFSETTO:-0400
TZNAME:EDT
DTSTART:20270314T070000
END:DAYLIGHT
BEGIN:STANDARD
TZOFFSETFROM:-0400
TZOFFSETTO:-0500
TZNAME:EST
DTSTART:20271107T060000
END:STANDARD
END:VTIMEZONE
BEGIN:VEVENT
DTSTART;TZID=America/New_York:20261104T130000
DTEND;TZID=America/New_York:20261104T160000
DTSTAMP:20260423T163354
CREATED:20251210T214351Z
LAST-MODIFIED:20251210T214351Z
UID:10000177-1793797200-1793808000@partnershipmiami.org
SUMMARY:New Member Orientation and Training
DESCRIPTION:Required Training for New Partnership and Committee Members\nNew members are required to complete the New Member Orientation and Training within three months of appointment.  If your application is pending or if you just want to learn more about the Partnership\, you are welcome to join us! \nWe hold New Member Orientation and Training quarterly via Microsoft Teams. \nRegistration Required: August Registration Link
URL:https://partnershipmiami.org/calendar/new-member-orientation-and-training-4/
CATEGORIES:Planning Council Member Enrichment Training
ATTACH;FMTTYPE=image/png:https://partnershipmiami.org/wp-content/uploads/2025/12/68a37f9e35d8b181f61c27ed_Screenshot-2025-08-18-at-2.31.35-PM.png
ORGANIZER;CN="Marlen Meizoso":MAILTO:marlen@behavioralscience.com
END:VEVENT
BEGIN:VEVENT
DTSTART;TZID=America/New_York:20261204T120000
DTEND;TZID=America/New_York:20261204T123000
DTSTAMP:20260423T163354
CREATED:20251209T163651Z
LAST-MODIFIED:20260119T212603Z
UID:10000092-1796385600-1796387400@partnershipmiami.org
SUMMARY:Report for Action!
DESCRIPTION:December Partnership Meeting Briefing\nReport for Action! is a 30-minute briefing of Reports and Action Items you can expect to see at your upcoming Partnership meeting. Join us 12:00 PM – 12:30 PM via Microsoft Teams. \n\n\n\n\nClick here to join via Microsoft Teams\n\n\n\nMeeting ID: 239 079 071 159 97\nPasscode: bK6ng73b
URL:https://partnershipmiami.org/calendar/report-for-action-11/
CATEGORIES:Planning Council Member Enrichment Training
ATTACH;FMTTYPE=image/webp:https://partnershipmiami.org/wp-content/uploads/2025/12/R4A.webp
ORGANIZER;CN="Christina Bontempo":MAILTO:cbontempo@behavioralscience.com
END:VEVENT
END:VCALENDAR