BEGIN:VCALENDAR
VERSION:2.0
PRODID:-//PartnershipMiami - ECPv6.15.20//NONSGML v1.0//EN
CALSCALE:GREGORIAN
METHOD:PUBLISH
X-ORIGINAL-URL:https://partnershipmiami.org
X-WR-CALDESC:Events for PartnershipMiami
REFRESH-INTERVAL;VALUE=DURATION:PT1H
X-Robots-Tag:noindex
X-PUBLISHED-TTL:PT1H
BEGIN:VTIMEZONE
TZID:America/New_York
BEGIN:DAYLIGHT
TZOFFSETFROM:-0500
TZOFFSETTO:-0400
TZNAME:EDT
DTSTART:20250309T070000
END:DAYLIGHT
BEGIN:STANDARD
TZOFFSETFROM:-0400
TZOFFSETTO:-0500
TZNAME:EST
DTSTART:20251102T060000
END:STANDARD
BEGIN:DAYLIGHT
TZOFFSETFROM:-0500
TZOFFSETTO:-0400
TZNAME:EDT
DTSTART:20260308T070000
END:DAYLIGHT
BEGIN:STANDARD
TZOFFSETFROM:-0400
TZOFFSETTO:-0500
TZNAME:EST
DTSTART:20261101T060000
END:STANDARD
BEGIN:DAYLIGHT
TZOFFSETFROM:-0500
TZOFFSETTO:-0400
TZNAME:EDT
DTSTART:20270314T070000
END:DAYLIGHT
BEGIN:STANDARD
TZOFFSETFROM:-0400
TZOFFSETTO:-0500
TZNAME:EST
DTSTART:20271107T060000
END:STANDARD
END:VTIMEZONE
BEGIN:VEVENT
DTSTART;TZID=America/New_York:20260603T120000
DTEND;TZID=America/New_York:20260603T130000
DTSTAMP:20260423T120737
CREATED:20251209T203331Z
LAST-MODIFIED:20251209T203331Z
UID:10000096-1780488000-1780491600@partnershipmiami.org
SUMMARY:Get on Board!
DESCRIPTION:Member Enrichment Training\nGet On Board! is a 60-minute interactive training on member-related topics such as Meeting Procedures\, Understanding Monthly Reports\, Getting to Know Local Funders\, Recruitment Strategies\, Ending the HIV Epidemic\, Needs Assessment\, Integrated Planning\, and more! Join us 12:00 PM – 1:00 PM via Microsoft Teams. \n\n\n\n\nRegistration Required: June Registration Link
URL:https://partnershipmiami.org/calendar/get-on-board-4/
CATEGORIES:Planning Council Member Enrichment Training
ATTACH;FMTTYPE=image/jpeg:https://partnershipmiami.org/wp-content/uploads/2025/12/Train.jpg
ORGANIZER;CN="Marlen Meizoso":MAILTO:marlen@behavioralscience.com
END:VEVENT
END:VCALENDAR