BEGIN:VCALENDAR
VERSION:2.0
PRODID:-//PartnershipMiami - ECPv6.15.20//NONSGML v1.0//EN
CALSCALE:GREGORIAN
METHOD:PUBLISH
X-WR-CALNAME:PartnershipMiami
X-ORIGINAL-URL:https://partnershipmiami.org
X-WR-CALDESC:Events for PartnershipMiami
REFRESH-INTERVAL;VALUE=DURATION:PT1H
X-Robots-Tag:noindex
X-PUBLISHED-TTL:PT1H
BEGIN:VTIMEZONE
TZID:America/New_York
BEGIN:DAYLIGHT
TZOFFSETFROM:-0500
TZOFFSETTO:-0400
TZNAME:EDT
DTSTART:20240310T070000
END:DAYLIGHT
BEGIN:STANDARD
TZOFFSETFROM:-0400
TZOFFSETTO:-0500
TZNAME:EST
DTSTART:20241103T060000
END:STANDARD
BEGIN:DAYLIGHT
TZOFFSETFROM:-0500
TZOFFSETTO:-0400
TZNAME:EDT
DTSTART:20250309T070000
END:DAYLIGHT
BEGIN:STANDARD
TZOFFSETFROM:-0400
TZOFFSETTO:-0500
TZNAME:EST
DTSTART:20251102T060000
END:STANDARD
BEGIN:DAYLIGHT
TZOFFSETFROM:-0500
TZOFFSETTO:-0400
TZNAME:EDT
DTSTART:20260308T070000
END:DAYLIGHT
BEGIN:STANDARD
TZOFFSETFROM:-0400
TZOFFSETTO:-0500
TZNAME:EST
DTSTART:20261101T060000
END:STANDARD
BEGIN:DAYLIGHT
TZOFFSETFROM:-0500
TZOFFSETTO:-0400
TZNAME:EDT
DTSTART:20270314T070000
END:DAYLIGHT
BEGIN:STANDARD
TZOFFSETFROM:-0400
TZOFFSETTO:-0500
TZNAME:EST
DTSTART:20271107T060000
END:STANDARD
END:VTIMEZONE
BEGIN:VEVENT
DTSTART;TZID=America/New_York:20260123T093000
DTEND;TZID=America/New_York:20260123T113000
DTSTAMP:20260423T144206
CREATED:20251210T190806Z
LAST-MODIFIED:20251210T192101Z
UID:10000139-1769160600-1769167800@partnershipmiami.org
SUMMARY:Medical Care Subcommittee
DESCRIPTION:NOTICE IS GIVEN that a Sunshine Meeting of the Miami-Dade HIV/AIDS Partnership’s Medical Care Subcommittee is scheduled IN PERSON for the date and time indicated to conduct regular subcommittee business. Please refer to the website link for details. \nThis is the required monthly meeting for members of the Medical Care Subcommittee. \nAll RSVPs are requested at least 48 hours in advance of the meeting. \n\nTo request meeting materials in accessible format\, a sign language interpreter\, CART (Communication Access Real-time Translation) services\, and/or any other accommodation to participate in this or any other Miami-Dade HIV/AIDS Partnership meeting\, please contact Marlen Meizoso at (305) 445-1076 or send an email to mdcpartnership@behavioralscience.com at least five (5) calendar days in advance to initiate your request. TTY users may also call 711 (Florida Relay Services). Miami-Dade County provides equal access and equal opportunity in its programs\, services\, employment\, and activities and does not discriminate on the basis of disability. \nIf you are unable to attend this meeting but would like to leave a public comment on any item on the meeting agenda\, please call 305-445-1076 and leave a message to be read into the record at this meeting. Please include your name and local address when you leave your comment.
URL:https://partnershipmiami.org/calendar/medical-care-subcommittee/
LOCATION:Behavioral Science Research Corporation (BSR)\, 2121 Ponce de Leon Boulevard\, Suite 240\, Coral Gables\, FL\, 33134
CATEGORIES:Miami-Dade HIV/AIDS Partnership
ATTACH;FMTTYPE=image/jpeg:https://partnershipmiami.org/wp-content/uploads/2025/12/istockphoto-910118874-612x612mcsc.jpg
ORGANIZER;CN="Marlen Meizoso":MAILTO:marlen@behavioralscience.com
END:VEVENT
BEGIN:VEVENT
DTSTART;TZID=America/New_York:20260122T100000
DTEND;TZID=America/New_York:20260122T120000
DTSTAMP:20260423T144206
CREATED:20251209T213355Z
LAST-MODIFIED:20260107T195816Z
UID:10000116-1769076000-1769083200@partnershipmiami.org
SUMMARY:Prevention Committee
DESCRIPTION:NOTICE IS GIVEN that a Sunshine Meeting of the Miami-Dade HIV/AIDS Partnership’s Prevention Committee is scheduled IN PERSON for the date and time indicated to conduct regular committee business. Please refer to the website link for details. \nThis is the required monthly meeting for members of the Prevention Committee. \nAll RSVPs are requested at least 48 hours in advance of the meeting. \n\nTo request meeting materials in accessible format\, a sign language interpreter\, CART (Communication Access Real-time Translation) services\, and/or any other accommodation to participate in this or any other Miami-Dade HIV/AIDS Partnership meeting\, please contact Christina Bontempo at (305) 445-1076 or send an email to mdcpartnership@behavioralscience.com at least five (5) calendar days in advance to initiate your request. TTY users may also call 711 (Florida Relay Services). Miami-Dade County provides equal access and equal opportunity in its programs\, services\, employment\, and activities and does not discriminate on the basis of disability. \nIf you are unable to attend this meeting but would like to leave a public comment on any item on the meeting agenda\, please call 305-445-1076 and leave a message to be read into the record at this meeting. Please include your name and local address when you leave your comment.
URL:https://partnershipmiami.org/calendar/strategic-planning-committee-14/
LOCATION:Florida Department of Health-Health District Center\, 1350 NW 14th Street\, Conference Room 401B\, Miami\, FL\, 33125
CATEGORIES:Miami-Dade HIV/AIDS Partnership
ATTACH;FMTTYPE=image/jpeg:https://partnershipmiami.org/wp-content/uploads/2025/12/istockphoto-860116564-612x612-pvc.jpg
ORGANIZER;CN="Christina Bontempo":MAILTO:cbontempo@behavioralscience.com
END:VEVENT
BEGIN:VEVENT
DTSTART;TZID=America/New_York:20260115T140000
DTEND;TZID=America/New_York:20260115T160000
DTSTAMP:20260423T144206
CREATED:20251209T215259Z
LAST-MODIFIED:20260109T145848Z
UID:10000117-1768485600-1768492800@partnershipmiami.org
SUMMARY:Housing Committee
DESCRIPTION:
URL:https://partnershipmiami.org/calendar/housing-committee/
LOCATION:Care Resource Community Health Centers\, 3510 Biscayne Boulevard\, 1st Floor Community Room\, Miami\, FL\, 33137
CATEGORIES:Miami-Dade HIV/AIDS Partnership
ATTACH;FMTTYPE=image/jpeg:https://partnershipmiami.org/wp-content/uploads/2025/12/Housing-Logo2.jpg
ORGANIZER;CN="Marlen Meizoso":MAILTO:marlen@behavioralscience.com
END:VEVENT
BEGIN:VEVENT
DTSTART;TZID=America/New_York:20260113T100000
DTEND;TZID=America/New_York:20260113T120000
DTSTAMP:20260423T144206
CREATED:20251209T205440Z
LAST-MODIFIED:20260113T164808Z
UID:10000053-1768298400-1768305600@partnershipmiami.org
SUMMARY:Strategic Planning Committee
DESCRIPTION:
URL:https://partnershipmiami.org/calendar/strategic-planning-committee-7/
LOCATION:Behavioral Science Research Corporation (BSR)\, 2121 Ponce de Leon Boulevard\, Suite 240\, Coral Gables\, FL\, 33134
CATEGORIES:Miami-Dade HIV/AIDS Partnership
ATTACH;FMTTYPE=image/webp:https://partnershipmiami.org/wp-content/uploads/2025/12/business-reportSPC.webp
ORGANIZER;CN="Christina Bontempo":MAILTO:cbontempo@behavioralscience.com
END:VEVENT
BEGIN:VEVENT
DTSTART;TZID=America/New_York:20260108T100000
DTEND;TZID=America/New_York:20260108T120000
DTSTAMP:20260423T144206
CREATED:20251201T182144Z
LAST-MODIFIED:20260106T161404Z
UID:10000061-1767866400-1767873600@partnershipmiami.org
SUMMARY:Care and Treatment Committee
DESCRIPTION:
URL:https://partnershipmiami.org/calendar/strategic-planning-committee-4/
CATEGORIES:Miami-Dade HIV/AIDS Partnership
ATTACH;FMTTYPE=image/png:https://partnershipmiami.org/wp-content/uploads/2025/12/ClipartCT.png
ORGANIZER;CN="Marlen Meizoso":MAILTO:marlen@behavioralscience.com
END:VEVENT
BEGIN:VEVENT
DTSTART;TZID=America/New_York:20260105T100000
DTEND;TZID=America/New_York:20260105T120000
DTSTAMP:20260423T144206
CREATED:20251217T171501Z
LAST-MODIFIED:20260106T161248Z
UID:10000038-1767607200-1767614400@partnershipmiami.org
SUMMARY:Miami-Dade HIV/AIDS Partnership
DESCRIPTION:
URL:https://partnershipmiami.org/calendar/miami-dade-hiv-aids-partnership-2/
CATEGORIES:Miami-Dade HIV/AIDS Partnership
ATTACH;FMTTYPE=image/jpeg:https://partnershipmiami.org/wp-content/uploads/2025/12/good-meeting.jpeg
ORGANIZER;CN="Christina Bontempo":MAILTO:cbontempo@behavioralscience.com
END:VEVENT
BEGIN:VEVENT
DTSTART;TZID=America/New_York:20251211T100000
DTEND;TZID=America/New_York:20251211T120000
DTSTAMP:20260423T144206
CREATED:20251210T192736Z
LAST-MODIFIED:20251210T192736Z
UID:10000148-1765447200-1765454400@partnershipmiami.org
SUMMARY:Care and Treatment Committee
DESCRIPTION:NOTICE IS GIVEN that a Sunshine Meeting of the Miami-Dade HIV/AIDS Partnership’s Care and Treatment Committee is scheduled IN PERSON for the date and time indicated to conduct regular committee business. Please refer to the website link for details. \nThis is the required monthly meeting for members of the Care and Treatment Committee. \nAll RSVPs are requested at least 48 hours in advance of the meeting. \n\nTo request meeting materials in accessible format\, a sign language interpreter\, CART (Communication Access Real-time Translation) services\, and/or any other accommodation to participate in this or any other Miami-Dade HIV/AIDS Partnership meeting\, please contact Marlen Meizoso at (305) 445-1076 or send an email to mdcpartnership@behavioralscience.com at least five (5) calendar days in advance to initiate your request. TTY users may also call 711 (Florida Relay Services). Miami-Dade County provides equal access and equal opportunity in its programs\, services\, employment\, and activities and does not discriminate on the basis of disability. \nIf you are unable to attend this meeting but would like to leave a public comment on any item on the meeting agenda\, please call 305-445-1076 and leave a message to be read into the record at this meeting. Please include your name and local address when you leave your comment.
URL:https://partnershipmiami.org/calendar/care-and-treatment-committee-10/
LOCATION:Care Resource Community Health Centers\, 3510 Biscayne Boulevard\, 1st Floor Community Room\, Miami\, FL\, 33137
CATEGORIES:Miami-Dade HIV/AIDS Partnership
ATTACH;FMTTYPE=image/png:https://partnershipmiami.org/wp-content/uploads/2025/12/ClipartCT.png
ORGANIZER;CN="Marlen Meizoso":MAILTO:marlen@behavioralscience.com
END:VEVENT
END:VCALENDAR