BEGIN:VCALENDAR
VERSION:2.0
PRODID:-//PartnershipMiami - ECPv6.15.20//NONSGML v1.0//EN
CALSCALE:GREGORIAN
METHOD:PUBLISH
X-ORIGINAL-URL:https://partnershipmiami.org
X-WR-CALDESC:Events for PartnershipMiami
REFRESH-INTERVAL;VALUE=DURATION:PT1H
X-Robots-Tag:noindex
X-PUBLISHED-TTL:PT1H
BEGIN:VTIMEZONE
TZID:America/New_York
BEGIN:DAYLIGHT
TZOFFSETFROM:-0500
TZOFFSETTO:-0400
TZNAME:EDT
DTSTART:20250309T070000
END:DAYLIGHT
BEGIN:STANDARD
TZOFFSETFROM:-0400
TZOFFSETTO:-0500
TZNAME:EST
DTSTART:20251102T060000
END:STANDARD
BEGIN:DAYLIGHT
TZOFFSETFROM:-0500
TZOFFSETTO:-0400
TZNAME:EDT
DTSTART:20260308T070000
END:DAYLIGHT
BEGIN:STANDARD
TZOFFSETFROM:-0400
TZOFFSETTO:-0500
TZNAME:EST
DTSTART:20261101T060000
END:STANDARD
BEGIN:DAYLIGHT
TZOFFSETFROM:-0500
TZOFFSETTO:-0400
TZNAME:EDT
DTSTART:20270314T070000
END:DAYLIGHT
BEGIN:STANDARD
TZOFFSETFROM:-0400
TZOFFSETTO:-0500
TZNAME:EST
DTSTART:20271107T060000
END:STANDARD
END:VTIMEZONE
BEGIN:VEVENT
DTSTART;TZID=America/New_York:20260515T100000
DTEND;TZID=America/New_York:20260515T170000
DTSTAMP:20260423T093238
CREATED:20260116T204834Z
LAST-MODIFIED:20260119T135952Z
UID:10000191-1778839200-1778864400@partnershipmiami.org
SUMMARY:RWP Medical Case Management Supervisor Care and Coordination Meeting
DESCRIPTION:The Ryan White Program (RWP) Medical Case Management (MCM) Supervisor Care and Coordination Meetings (formerly Supervisor Training) is held quarterly during the fiscal year (May\, August\, November\, and February) for program managers\, supervisors\, and lead medical case managers. The trainings cover topics critical to developing effective management skills such as performance management\, motivation\, team development\, interpersonal and communication skills\, supervisory skills training and time management skills – everything you need to manage people effectively. The trainings also address the Ryan White Program Service Delivery Guidelines and Standards of Care for medical case management.
URL:https://partnershipmiami.org/calendar/medical-case-management-care-and-coordination-meeting/
LOCATION:Behavioral Science Research Corporation (BSR)\, 2121 Ponce de Leon Boulevard\, Suite 240\, Coral Gables\, FL\, 33134
CATEGORIES:Medical Case Management
ATTACH;FMTTYPE=image/jpeg:https://partnershipmiami.org/wp-content/uploads/2025/12/pngtree-business-team-work-concept-target-with-an-arrow-hit-the-target-png-image_2158007super.jpg
ORGANIZER;CN="Sandra Sergi":MAILTO:ssergi@behavioralscience.com
END:VEVENT
END:VCALENDAR