BEGIN:VCALENDAR
VERSION:2.0
PRODID:-//PartnershipMiami - ECPv6.15.20//NONSGML v1.0//EN
CALSCALE:GREGORIAN
METHOD:PUBLISH
X-ORIGINAL-URL:https://partnershipmiami.org
X-WR-CALDESC:Events for PartnershipMiami
REFRESH-INTERVAL;VALUE=DURATION:PT1H
X-Robots-Tag:noindex
X-PUBLISHED-TTL:PT1H
BEGIN:VTIMEZONE
TZID:America/New_York
BEGIN:DAYLIGHT
TZOFFSETFROM:-0500
TZOFFSETTO:-0400
TZNAME:EDT
DTSTART:20250309T070000
END:DAYLIGHT
BEGIN:STANDARD
TZOFFSETFROM:-0400
TZOFFSETTO:-0500
TZNAME:EST
DTSTART:20251102T060000
END:STANDARD
BEGIN:DAYLIGHT
TZOFFSETFROM:-0500
TZOFFSETTO:-0400
TZNAME:EDT
DTSTART:20260308T070000
END:DAYLIGHT
BEGIN:STANDARD
TZOFFSETFROM:-0400
TZOFFSETTO:-0500
TZNAME:EST
DTSTART:20261101T060000
END:STANDARD
BEGIN:DAYLIGHT
TZOFFSETFROM:-0500
TZOFFSETTO:-0400
TZNAME:EDT
DTSTART:20270314T070000
END:DAYLIGHT
BEGIN:STANDARD
TZOFFSETFROM:-0400
TZOFFSETTO:-0500
TZNAME:EST
DTSTART:20271107T060000
END:STANDARD
END:VTIMEZONE
BEGIN:VEVENT
DTSTART;TZID=America/New_York:20260422T100000
DTEND;TZID=America/New_York:20260422T130000
DTSTAMP:20260422T223422
CREATED:20260330T200505Z
LAST-MODIFIED:20260330T200519Z
UID:10000201-1776852000-1776862800@partnershipmiami.org
SUMMARY:Ryan White Program Subrecipient Forum
DESCRIPTION:Ryan White Program Subrecipient Forums are Quality Improvement-focused trainings facilitated by Miami-Dade County Office of Management and Budget Grants Coordination/Ryan White Program and Behavioral Science Research Corporation. \nRyan White Part A/MAI-funded subrecipient’s senior level staff members – Executive Directors and/or Program Directors/Coordinators – attend Subrecipient Forums. Specifically\, decision-makers at the organization who are responsible for ensuring service quality and compliance with program and contractual requirements.
URL:https://partnershipmiami.org/calendar/ryan-white-program-subrecipient-forum-2/
LOCATION:Florida Department of Health-Health District Center\, 1350 NW 14th Street\, Conference Room 401B\, Miami\, FL\, 33125
CATEGORIES:Clinical Quality Management
ATTACH;FMTTYPE=image/png:https://partnershipmiami.org/wp-content/uploads/2025/05/Cover-MDC-RWP-Subrecipient-Forum-RWP-Updates-2.10.25.png
ORGANIZER;CN="Sandra Sergi":MAILTO:ssergi@behavioralscience.com
END:VEVENT
END:VCALENDAR